BEGIN:VCALENDAR
VERSION:2.0
PRODID:-//Autisme Netwerk Zuid-Limburg - ECPv6.15.14//NONSGML v1.0//EN
CALSCALE:GREGORIAN
METHOD:PUBLISH
X-ORIGINAL-URL:https://autismenetwerkzuidlimburg.nl
X-WR-CALDESC:Evenementen voor Autisme Netwerk Zuid-Limburg
REFRESH-INTERVAL;VALUE=DURATION:PT1H
X-Robots-Tag:noindex
X-PUBLISHED-TTL:PT1H
BEGIN:VTIMEZONE
TZID:Europe/Paris
BEGIN:DAYLIGHT
TZOFFSETFROM:+0100
TZOFFSETTO:+0200
TZNAME:CEST
DTSTART:20180325T010000
END:DAYLIGHT
BEGIN:STANDARD
TZOFFSETFROM:+0200
TZOFFSETTO:+0100
TZNAME:CET
DTSTART:20181028T010000
END:STANDARD
BEGIN:DAYLIGHT
TZOFFSETFROM:+0100
TZOFFSETTO:+0200
TZNAME:CEST
DTSTART:20190331T010000
END:DAYLIGHT
BEGIN:STANDARD
TZOFFSETFROM:+0200
TZOFFSETTO:+0100
TZNAME:CET
DTSTART:20191027T010000
END:STANDARD
BEGIN:DAYLIGHT
TZOFFSETFROM:+0100
TZOFFSETTO:+0200
TZNAME:CEST
DTSTART:20200329T010000
END:DAYLIGHT
BEGIN:STANDARD
TZOFFSETFROM:+0200
TZOFFSETTO:+0100
TZNAME:CET
DTSTART:20201025T010000
END:STANDARD
END:VTIMEZONE
BEGIN:VEVENT
DTSTART;TZID=Europe/Paris:20190207T190000
DTEND;TZID=Europe/Paris:20190207T220000
DTSTAMP:20260426T042745
CREATED:20190125T093616Z
LAST-MODIFIED:20191108T112948Z
UID:2710-1549566000-1549576800@autismenetwerkzuidlimburg.nl
SUMMARY:Een avondje bij SAM?
DESCRIPTION:Ben jij tussen de 15 en 21 jaar\, heb jij autisme en wil je gewoon eens een gezellige avond chillen? Lekker uit met (nieuwe) vrienden? \nElke eerste donderdag van de maand organiseert SAM speciaal voor jou een leuke avond. \nSAM heeft bij het Trefcentrum een geweldige ruimte gevonden\, waar je van alles kunt doen: bijkletsen met een drankje\, samen allerlei bordspellen en games spelen\, tafelvoetballen\, muziek luisteren en vooral ontspannen en jezelf zijn. Het is immers jullie avond. \nWie het leuk vindt kan SAM ook een handje helpen. Sta je graag achter de bar of wil je iets anders doen? Laat maar weten en SAM kijkt wat er mogelijk is. \nOf je nu alleen komt of met je beste vriend(in)en\, bij SAM ben je welkom! \n  \nSAM vraagt geen entree en rekent voor een blikje fris 1 euro. \n  \nSAM houdt het graag helder\, dus alle avonden zijn alcohol-\, rook- en drugsvrij.
URL:https://autismenetwerkzuidlimburg.nl/event/een-avondje-bij-sam/2019-02-07/
LOCATION:Trefcentrum\, Edisonstraat 4\, Maastricht\, 6224 GK\, Nederland
ORGANIZER;CN="SAM":MAILTO:saminmaastricht@gmail.com
END:VEVENT
END:VCALENDAR