BEGIN:VCALENDAR
VERSION:2.0
PRODID:-//Autisme Netwerk Zuid-Limburg - ECPv6.15.14//NONSGML v1.0//EN
CALSCALE:GREGORIAN
METHOD:PUBLISH
X-ORIGINAL-URL:https://autismenetwerkzuidlimburg.nl
X-WR-CALDESC:Evenementen voor Autisme Netwerk Zuid-Limburg
REFRESH-INTERVAL;VALUE=DURATION:PT1H
X-Robots-Tag:noindex
X-PUBLISHED-TTL:PT1H
BEGIN:VTIMEZONE
TZID:Europe/Paris
BEGIN:DAYLIGHT
TZOFFSETFROM:+0100
TZOFFSETTO:+0200
TZNAME:CEST
DTSTART:20180325T010000
END:DAYLIGHT
BEGIN:STANDARD
TZOFFSETFROM:+0200
TZOFFSETTO:+0100
TZNAME:CET
DTSTART:20181028T010000
END:STANDARD
BEGIN:DAYLIGHT
TZOFFSETFROM:+0100
TZOFFSETTO:+0200
TZNAME:CEST
DTSTART:20190331T010000
END:DAYLIGHT
BEGIN:STANDARD
TZOFFSETFROM:+0200
TZOFFSETTO:+0100
TZNAME:CET
DTSTART:20191027T010000
END:STANDARD
BEGIN:DAYLIGHT
TZOFFSETFROM:+0100
TZOFFSETTO:+0200
TZNAME:CEST
DTSTART:20200329T010000
END:DAYLIGHT
BEGIN:STANDARD
TZOFFSETFROM:+0200
TZOFFSETTO:+0100
TZNAME:CET
DTSTART:20201025T010000
END:STANDARD
END:VTIMEZONE
BEGIN:VEVENT
DTSTART;TZID=Europe/Paris:20190316T130000
DTEND;TZID=Europe/Paris:20190316T180000
DTSTAMP:20260426T031109
CREATED:20190305T150154Z
LAST-MODIFIED:20190305T150329Z
UID:2752-1552741200-1552759200@autismenetwerkzuidlimburg.nl
SUMMARY:Autisme Ontmoetingsdag
DESCRIPTION:Autisme Ontmoetingsdag Maastricht \nOp zaterdag 16 maart is er een ontmoetingsdag in Maastricht. \nTussen 12.00 en 12.30 wordt er verzameld op het station van Maastricht in de stationshal bij de uitgang naar het centrum voor de bloemenzaak . \nDe gastheer voor deze dag is Johan \nJe mag van af 13.00 uur ook gelijk naar de locatie komen. \nVoor deze dag zijn de A.O.D regels van kracht. \nNa de ontmoetingsdag gaan we\, met hen die dat willen\, gezamenlijk uit eten. \nDe eetlocatie is: \nPêt Thai\, \nBoschstraat 93\, \n6211 AW Maastricht \nVoor meer informatie\, reglement en aanmeldingen zie onze website \nwww.aodnederland.nl \nGraag tot ziens op de ontmoetingsdag Maastricht. \nIn onderstaande link de uitnodiging \nMaastricht[13542]
URL:https://autismenetwerkzuidlimburg.nl/event/autisme-ontmoetingsdag/
LOCATION:Brasserie Bonhomme\, Maaspromenade 78\, Maastricht\, 6211 HS\, Nederland
END:VEVENT
BEGIN:VEVENT
DTSTART;TZID=Europe/Paris:20190319T190000
DTEND;TZID=Europe/Paris:20190319T210000
DTSTAMP:20260426T031109
CREATED:20190318T150602Z
LAST-MODIFIED:20200319T094320Z
UID:2856-1553022000-1553029200@autismenetwerkzuidlimburg.nl
SUMMARY:Inloopavond Stichting Ouders voor Ouders
DESCRIPTION:Stichting Ouders voor Ouders is ontstaan voor en door ouders van een zorgenkind-chronische zieke kind. De contactgroepen bestaan uit ouders van kinderen in alle leeftijden met oa: Autisme\, ADHD\, PDD- NOS\, ODD-CD\, Syndroom van Down\, Psychische stoornissen\, Partners met diagnose ASS en heel veel andere varianten. \nBelangrijk is:\n– Herkenning\n– Steun\n– Ontspanning\n– Ontmoeting met lotgenoten en ervaringsdeskundigen\n– Informatie
URL:https://autismenetwerkzuidlimburg.nl/event/inloopavond-stichting-ouders-voor-ouders/2019-03-19/
LOCATION:Buurtcentrum Daalhof\, Aureliushof 160\, Maastricht\, Nederland
ORGANIZER;CN="Stichting Ouders voor ouders":MAILTO:stichtingoudersvoorouders@hotmail.com
END:VEVENT
BEGIN:VEVENT
DTSTART;TZID=Europe/Paris:20190319T203000
DTEND;TZID=Europe/Paris:20190319T223000
DTSTAMP:20260426T031109
CREATED:20190318T144155Z
LAST-MODIFIED:20190318T144155Z
UID:2838-1553027400-1553034600@autismenetwerkzuidlimburg.nl
SUMMARY:Lotgenotenavond LGAL Maastricht
DESCRIPTION:De Lotgenotengroep Autisme Limburg heeft als doel om lotgenotencontact aan te bieden aan volwassenen met een Autisme Spectrum Stoornis (ASS) in de provincie Limburg. Wij stellen geen eisen op het gebied van begaafdheid\, maar verwachten wel dat deelnemers zich op hun gemak voelen in een groep en zich daarin redelijk kunnen uiten. Partners\, ouders en begeleiders die iemand met ASS vergezellen zijn ook welkom. Dat maakt onze aanpak uniek. \nIn een gezellige en ongedwongen sfeer kun je bij ons mensen ontmoeten die jou begrijpen en steunen. Om de drempel voor deelname laag te houden rekenen wij geen contributie. Ook ben je niet verplicht om naar bijeenkomsten te komen. \nWij organiseren lotgenotenavonden met verschillende thema’s\, passend bij mensen met ASS. In Brunssum is dat een keer per twee weken en in Maastricht een keer per 4 weken. De avonden zijn op dinsdag van 19:30 – 21:30 uur\, de ruimte is vanaf 19:00 uur open. \nHet is mogelijk om op deze avond langs te komen als je vrijblijvend kennis wilt maken met de groep of vragen hebt over autisme bij volwassenen. \nDe lotgenotenavonden zijn gratis\, maar het staat iedereen vrij om een kleine bijdrage te leveren. Koffie\, thee en frisdranken zijn verkrijgbaar tegen een schappelijke prijs. \nVooraf aanmelden is niet verplicht\, maar we stellen het wel op prijs. \nElke avond staat een ander thema centraal. Voor het thema van de avond\, kijk op deze website
URL:https://autismenetwerkzuidlimburg.nl/event/lotgenotenavond-lgal-maastricht/2019-03-19/
LOCATION:Boerderij de Grubbe\, Vijverdalseweg 1\, Maastricht\, 6226 NB\, Nederland
ORGANIZER;CN="LGAL":MAILTO:info@lgal.nl
END:VEVENT
BEGIN:VEVENT
DTSTART;TZID=Europe/Paris:20190321T130000
DTEND;TZID=Europe/Paris:20190321T143000
DTSTAMP:20260426T031109
CREATED:20190308T124625Z
LAST-MODIFIED:20191107T111338Z
UID:2775-1553173200-1553178600@autismenetwerkzuidlimburg.nl
SUMMARY:Uitleg over autisme  d.m.v. Brain Blocks
DESCRIPTION:Brain Blocks \nInloopmiddag waar aan de hand van de zogeheten “Brain Blocks” basis informatie gegeven wordt over autisme. Het inloopmoment is bestemd voor iedereen die vragen heeft over autisme. Bijvoorbeeld mensen met autisme\, hun ouders\, partners of overige naasten. \nDe uitleg wordt gegeven door een professional en indien mogelijk ondersteund door een ervaringsdeskundige. \nAanmelden is niet verplicht\, maar is wel prettig voor de organisatie. Dit kan per mail via cursussen@meezuidlimburg.nl \n 
URL:https://autismenetwerkzuidlimburg.nl/event/uitleg-over-autisme-d-m-v-brain-blocks/2019-03-21/
LOCATION:MEE Zuid-Limburg\, Frankenlaan 7\, Heerlen\, 6419 BT\, Nederland
ORGANIZER;CN="MEE Zuid-Limburg":MAILTO:servicepunt@meezuidlimburg.nl
END:VEVENT
BEGIN:VEVENT
DTSTART;TZID=Europe/Paris:20190321T203000
DTEND;TZID=Europe/Paris:20190321T223000
DTSTAMP:20260426T031109
CREATED:20190305T152240Z
LAST-MODIFIED:20190305T153103Z
UID:2760-1553200200-1553207400@autismenetwerkzuidlimburg.nl
SUMMARY:Autitreff
DESCRIPTION:Autitreff \nOntmoetingsplaats voor ouders/naasten van mensen met autisme\, mensen met autisme en voor iedereen die zich persoonlijk of professioneel betrokken voelt bij mensen met autisme. \nElke maand is er een ander thema. Kijk hiervoor op Facebook bij Autitreff. \n 
URL:https://autismenetwerkzuidlimburg.nl/event/autitreff/2019-03-21/
LOCATION:Wijksteunpunt\, Peter Schunckstraat 340 A\, Heerlen\, 6418 XL\, Nederland
ORGANIZER;CN="Auti-Treff":MAILTO:autitreff@gmail.com
END:VEVENT
BEGIN:VEVENT
DTSTART;TZID=Europe/Paris:20190324T151500
DTEND;TZID=Europe/Paris:20190324T180000
DTSTAMP:20260426T031109
CREATED:20190318T145247Z
LAST-MODIFIED:20190318T145247Z
UID:2851-1553440500-1553450400@autismenetwerkzuidlimburg.nl
SUMMARY:Activiteit LGAL: poolbiljart
DESCRIPTION:De Lotgenotengroep Autisme Limburg heeft als doel om lotgenotencontact aan te bieden aan volwassenen met een Autisme Spectrum Stoornis (ASS) in de provincie Limburg. Wij stellen geen eisen op het gebied van begaafdheid\, maar verwachten wel dat deelnemers zich op hun gemak voelen in een groep en zich daarin redelijk kunnen uiten. Partners\, ouders en begeleiders die iemand met ASS vergezellen zijn ook welkom. Dat maakt onze aanpak uniek. \nActiviteit van vandaag: Poolbiljart \nBalletjes in gaatjes laten verdwijnen. Geen golf\, basketbal of korfbal dit keer\, maar poolbiljart. Deze activiteit vindt plaats in Matchpoint Heerlen. We verzamelen om 14:15 en we poolen vanaf 14:30 tot circa 16:30. De kosten bedragen 8\,50\, inclusief een consumptie. Opgave vooraf en uiterlijk 22 maart via deze link \nMeer info op website LGAL
URL:https://autismenetwerkzuidlimburg.nl/event/activiteit-lgal-poolbiljart/
LOCATION:Matchpoint\, Oranje Nassaustraat 33\, Heerlen\, 6411 LE\, Nederland
ORGANIZER;CN="LGAL":MAILTO:info@lgal.nl
END:VEVENT
BEGIN:VEVENT
DTSTART;TZID=Europe/Paris:20190326T193000
DTEND;TZID=Europe/Paris:20190326T213000
DTSTAMP:20260426T031109
CREATED:20190318T142959Z
LAST-MODIFIED:20191108T113312Z
UID:2792-1553628600-1553635800@autismenetwerkzuidlimburg.nl
SUMMARY:Lotgenotenavond LGAL in Brunssum
DESCRIPTION:De Lotgenotengroep Autisme Limburg heeft als doel om lotgenotencontact aan te bieden aan volwassenen met een Autisme Spectrum Stoornis (ASS) in de provincie Limburg. Wij stellen geen eisen op het gebied van begaafdheid\, maar verwachten wel dat deelnemers zich op hun gemak voelen in een groep en zich daarin redelijk kunnen uiten. Partners\, ouders en begeleiders die iemand met ASS vergezellen zijn ook welkom. Dat maakt onze aanpak uniek. \nIn een gezellige en ongedwongen sfeer kun je bij ons mensen ontmoeten die jou begrijpen en steunen. Om de drempel voor deelname laag te houden rekenen wij geen contributie. Ook ben je niet verplicht om naar bijeenkomsten te komen. \nWij organiseren lotgenotenavonden met verschillende thema’s\, passend bij mensen met ASS. In Brunssum is dat een keer per twee weken en in Maastricht een keer per 4 weken. De avonden zijn op dinsdag van 19:30 – 21:30 uur\, de ruimte is vanaf 19:00 uur open. \nHet is mogelijk om op deze avond langs te komen als je vrijblijvend kennis wilt maken met de groep of vragen hebt over autisme bij volwassenen. \nDe lotgenotenavonden zijn gratis\, maar het staat iedereen vrij om een kleine bijdrage te leveren. Koffie\, thee en frisdranken zijn verkrijgbaar tegen een schappelijke prijs. \nVooraf aanmelden is niet verplicht\, maar we stellen het wel op prijs. \nElke avond staat een ander thema centraal. Voor het thema van de avond\, kijk op deze website \n 
URL:https://autismenetwerkzuidlimburg.nl/event/lotgenotenavond-lgal-in-brunssum/2019-03-26/
LOCATION:Wijksteunpunt Noord\, Henri Dunantstraat 519\, Brunssum\, 6441 XR\, Nederland
ORGANIZER;CN="LGAL":MAILTO:info@lgal.nl
END:VEVENT
BEGIN:VEVENT
DTSTART;TZID=Europe/Paris:20190329T200000
DTEND;TZID=Europe/Paris:20190329T233000
DTSTAMP:20260426T031109
CREATED:20190318T120843Z
LAST-MODIFIED:20190318T120843Z
UID:2789-1553889600-1553902200@autismenetwerkzuidlimburg.nl
SUMMARY:Filmavond LGAL en MEE
DESCRIPTION:  \nTwee keer per jaar organiseren LGAL en MEE Zuid-Limburg een filmavond voor mensen met autisme. \nOp 29 maart is als film gekozen: Temple Grandin.  \n \nIn de pauze en aansluitend aan de film houden wij een gezellige nabespreking met een hapje en een drankje.  \nJe kunt je in verband met de boodschappen uiterlijk donderdag 28 maart opgeven door een mail te sturen naar info@LGAL.nl \nMocht je geen vervoer hebben laat ons dit dan uiterlijk dinsdag 26 maart weten\, dan kijken wij wat we kunnen regelen.  \nDe kosten voor de filmavond bedragen € 2\,50 per persoon.  Betalen doe je door het bedrag uiterlijk dinsdag 26 maart over te maken op IBAN NL22 RABO 0308 9237 07 ten name van: Stg. Lotgenotengr. Autisme Limburg onder vermelding Filmavond MEE. Als je liever contant betaalt geef dat dan even bij jouw aanmelding aan. \n 
URL:https://autismenetwerkzuidlimburg.nl/event/filmavond-lgal-en-mee/
LOCATION:MEE Zuid-Limburg\, Frankenlaan 7\, Heerlen\, 6419 BT\, Nederland
ORGANIZER;CN="LGAL":MAILTO:info@lgal.nl
END:VEVENT
END:VCALENDAR