BEGIN:VCALENDAR
VERSION:2.0
PRODID:-//Autisme Netwerk Zuid-Limburg - ECPv6.15.14//NONSGML v1.0//EN
CALSCALE:GREGORIAN
METHOD:PUBLISH
X-WR-CALNAME:Autisme Netwerk Zuid-Limburg
X-ORIGINAL-URL:https://autismenetwerkzuidlimburg.nl
X-WR-CALDESC:Evenementen voor Autisme Netwerk Zuid-Limburg
REFRESH-INTERVAL;VALUE=DURATION:PT1H
X-Robots-Tag:noindex
X-PUBLISHED-TTL:PT1H
BEGIN:VTIMEZONE
TZID:Europe/Paris
BEGIN:DAYLIGHT
TZOFFSETFROM:+0100
TZOFFSETTO:+0200
TZNAME:CEST
DTSTART:20180325T010000
END:DAYLIGHT
BEGIN:STANDARD
TZOFFSETFROM:+0200
TZOFFSETTO:+0100
TZNAME:CET
DTSTART:20181028T010000
END:STANDARD
BEGIN:DAYLIGHT
TZOFFSETFROM:+0100
TZOFFSETTO:+0200
TZNAME:CEST
DTSTART:20190331T010000
END:DAYLIGHT
BEGIN:STANDARD
TZOFFSETFROM:+0200
TZOFFSETTO:+0100
TZNAME:CET
DTSTART:20191027T010000
END:STANDARD
BEGIN:DAYLIGHT
TZOFFSETFROM:+0100
TZOFFSETTO:+0200
TZNAME:CEST
DTSTART:20200329T010000
END:DAYLIGHT
BEGIN:STANDARD
TZOFFSETFROM:+0200
TZOFFSETTO:+0100
TZNAME:CET
DTSTART:20201025T010000
END:STANDARD
END:VTIMEZONE
BEGIN:VEVENT
DTSTART;TZID=Europe/Paris:20191015T200000
DTEND;TZID=Europe/Paris:20191015T213000
DTSTAMP:20260425T181857
CREATED:20190821T142548Z
LAST-MODIFIED:20190821T142548Z
UID:2933-1571169600-1571175000@autismenetwerkzuidlimburg.nl
SUMMARY:Brain Blocks
DESCRIPTION:MEE Zuid-Limburg start met het geven van “BRAIN BLOCKS” in regio Maastricht en Heuvelland.  \nBRAIN BLOCKS is een inloopsessie waar aan de hand van de zogeheten “Brain Blocks” basisinformatie gegeven wordt over autisme. Het inloopmoment is bestemd voor iedereen die vragen heeft over autisme. Bijvoorbeeld mensen met autisme\, hun ouders\, partners of overige naasten. Tevens is een ervaringsdeskundige aanwezig.  \nDeelname is gratis. \nAanmelden svp via; cursussen@meezuidlimburg.nl   (maximaal 15 deelnemers). \n 
URL:https://autismenetwerkzuidlimburg.nl/event/brain-blocks/
LOCATION:Buurtcentrum de ROMEIN\, Potteriestraat 30\, Maastricht\, 6216 VG\, Nederland
ORGANIZER;CN="MEE Zuid-Limburg":MAILTO:servicepunt@meezuidlimburg.nl
END:VEVENT
BEGIN:VEVENT
DTSTART;TZID=Europe/Paris:20191017T203000
DTEND;TZID=Europe/Paris:20191017T223000
DTSTAMP:20260425T181857
CREATED:20190821T154249Z
LAST-MODIFIED:20190821T154249Z
UID:2947-1571344200-1571351400@autismenetwerkzuidlimburg.nl
SUMMARY:Autitreff\, informatieavond PGB
DESCRIPTION:AUTI-TREFF is een ontmoetingsplek voor ouders en/of naasten van mensen met autisme\, mensen met autisme zelf en voor iedereen die zich persoonlijk of professioneel betrokken voelt bij mensen met autisme. \nAUTI-TREFF wordt georganiseerd door ouders voor ouders. Ouders bepalen zelf wat in de bijeenkomsten besproken wordt. \nNaast inloopavonden voor ontmoeting en wederzijdse ondersteuning zijn er bij AUTI-TREFF diverse activiteiten en thema-avonden met als doel het verbeteren van de positie van mensen met autisme specifiek in onze regio Zuid-Limburg. Thema’s hebben o.m. betrekking op het verbeteren van gemeentelijke beleid (Wmo\, Jeugdwet\, PGB)\, (beschermd) wonen\, onderwijs\, werk en/of uitkering (Wajong)\, (toegang tot) hulpverlening. \nInformatiebijeenkomst over het PGB. \nWat is een PGB en hoe vraag je het aan? Op deze avond worden vragen over het PGB beantwoord door Hans Van Der Knijff van Per Saldo. \nDeze avond kan pas doorgaan indien er voldoende belangstelling is. Daarom vragen wij u om u hiervoor aan te melden voor 19 september a.s. via autitreff@gmail.com
URL:https://autismenetwerkzuidlimburg.nl/event/autitreff-informatieavond-pgb/
LOCATION:Wijksteunpunt\, Peter Schunckstraat 340 A\, Heerlen\, 6418 XL\, Nederland
ORGANIZER;CN="Auti-Treff":MAILTO:autitreff@gmail.com
END:VEVENT
BEGIN:VEVENT
DTSTART;VALUE=DATE:20191019
DTEND;VALUE=DATE:20191021
DTSTAMP:20260425T181857
CREATED:20190827T124038Z
LAST-MODIFIED:20190827T124038Z
UID:2955-1571446800-1571533199@autismenetwerkzuidlimburg.nl
SUMMARY:LGAL Bezoek museum
DESCRIPTION:Kijk voor meer informatie over het bezoeken van een museum op de website van LGAL \n  \nDe Lotgenotengroep Autisme Limburg heeft als doel om lotgenotencontact aan te bieden aan volwassenen met een Autisme Spectrum Stoornis (ASS) in de provincie Limburg. Wij stellen geen eisen op het gebied van begaafdheid\, maar verwachten wel dat deelnemers zich op hun gemak voelen in een groep en zich daarin redelijk kunnen uiten. Partners\, ouders en begeleiders die iemand met ASS vergezellen zijn ook welkom. Dat maakt onze aanpak uniek. \nIn een gezellige en ongedwongen sfeer kun je bij ons mensen ontmoeten die jou begrijpen en steunen. Om de drempel voor deelname laag te houden rekenen wij geen contributie. Ook ben je niet verplicht om naar bijeenkomsten te komen. \nDoor het organiseren van minimaal één activiteit per maand en een\, afhankelijk van de locatie\, twee- of vierwekelijkse lotgenotenavond willen wij bereiken dat onze deelnemers: \nWe zijn een organisatie voor mensen met autisme\, door vrijwilligers met autisme.
URL:https://autismenetwerkzuidlimburg.nl/event/lgal-bezoek-museum/
ORGANIZER;CN="LGAL":MAILTO:info@lgal.nl
END:VEVENT
BEGIN:VEVENT
DTSTART;TZID=Europe/Paris:20191026T140000
DTEND;TZID=Europe/Paris:20191026T180000
DTSTAMP:20260425T181857
CREATED:20191015T063554Z
LAST-MODIFIED:20191015T063634Z
UID:2987-1572098400-1572112800@autismenetwerkzuidlimburg.nl
SUMMARY:PAS Contactdag Autisme
DESCRIPTION:PAS Contactdag Autisme \nGezellig en informeel contact met lotgenoten \nPAS is de Belangenvereniging voor en door normaal of hoger begaafde\nvolwassenen uit het autisme spectrum \nWe verzamelen op Maastricht Centraal\ntussen 12:15 en 12:45 uur.\n(in stationshal tegenover bloemenstal) \nOf kom zelf naar de locatie:\nBrasserie Bonhomme\nMaaspromenade 78\n6211 HS MAASTRICHT \nKosten\nDeelname aan de contactdag kost € 3\,00 per persoon voor niet-leden\,\nconsumpties op locatie voor eigen rekening.\n’s avonds kan naar keuze in gezelschap met elkaar gegeten worden\n(Kosten voor eigen rekening) \nVoor meer informatie en aanmelden kunt u contact opnemen\nvia onderstaande gegevens. \nDe PAS contactdagen zijn bedoeld voor volwassen (18+) normaal of hoger begaafde personen met\neen vorm/diagnose van autisme. Wij verwachten van bezoekers dat zij zelfstandig kunnen deelnemen
URL:https://autismenetwerkzuidlimburg.nl/event/pas-contactdag-autisme/
LOCATION:Brasserie Bonhomme\, Maaspromenade 78\, Maastricht\, 6211 HS\, Nederland
ORGANIZER;CN="PAS":MAILTO:contactdag.maastricht@pasnederland.nl
END:VEVENT
BEGIN:VEVENT
DTSTART;TZID=Europe/Paris:20191030T203000
DTEND;TZID=Europe/Paris:20191030T223000
DTSTAMP:20260425T181857
CREATED:20191010T060922Z
LAST-MODIFIED:20191010T061220Z
UID:2981-1572467400-1572474600@autismenetwerkzuidlimburg.nl
SUMMARY:Theatervoorstelling Autisme.......op het eerste gezicht
DESCRIPTION:Theatervoorstelling Autisme…….op het eerste gezicht \nWat kunt u doen in het eerste contact met iemand \nmet autisme? Hoe biedt u uw cliënt met autisme een veilige \nontvangst? Wat kunt u beter juist niet doen of zeggen? \nHoe voorkomt u dat iemand met autisme al in de \nwachtkamer of aan de telefoon uit zijn of haar doen raakt\, \nterwijl de intake of de behandeling nog moet beginnen? \nEn wat kunt u als naaste doen? \n  \nVoor meer info zie de flyer Flyer Autisme 30 oktober 2019  \nDe toegang is gratis en iedereen is welkom. \nAanmelden is gewenst: \nwww.mondriaan.eu/agenda of of bij Mark Ahsmann 088 506 9413 \n 
URL:https://autismenetwerkzuidlimburg.nl/event/theatervoorstelling-autisme-op-het-eerste-gezicht/
LOCATION:Cultuurhuis Heerlen\, Sittarderweg 145\, Heerlen\, Nederland
END:VEVENT
END:VCALENDAR