BEGIN:VCALENDAR
VERSION:2.0
PRODID:-//Autisme Netwerk Zuid-Limburg - ECPv6.15.14//NONSGML v1.0//EN
CALSCALE:GREGORIAN
METHOD:PUBLISH
X-ORIGINAL-URL:https://autismenetwerkzuidlimburg.nl
X-WR-CALDESC:Evenementen voor Autisme Netwerk Zuid-Limburg
REFRESH-INTERVAL;VALUE=DURATION:PT1H
X-Robots-Tag:noindex
X-PUBLISHED-TTL:PT1H
BEGIN:VTIMEZONE
TZID:Europe/Paris
BEGIN:DAYLIGHT
TZOFFSETFROM:+0100
TZOFFSETTO:+0200
TZNAME:CEST
DTSTART:20180325T010000
END:DAYLIGHT
BEGIN:STANDARD
TZOFFSETFROM:+0200
TZOFFSETTO:+0100
TZNAME:CET
DTSTART:20181028T010000
END:STANDARD
BEGIN:DAYLIGHT
TZOFFSETFROM:+0100
TZOFFSETTO:+0200
TZNAME:CEST
DTSTART:20190331T010000
END:DAYLIGHT
BEGIN:STANDARD
TZOFFSETFROM:+0200
TZOFFSETTO:+0100
TZNAME:CET
DTSTART:20191027T010000
END:STANDARD
BEGIN:DAYLIGHT
TZOFFSETFROM:+0100
TZOFFSETTO:+0200
TZNAME:CEST
DTSTART:20200329T010000
END:DAYLIGHT
BEGIN:STANDARD
TZOFFSETFROM:+0200
TZOFFSETTO:+0100
TZNAME:CET
DTSTART:20201025T010000
END:STANDARD
END:VTIMEZONE
BEGIN:VEVENT
DTSTART;TZID=Europe/Paris:20191108T190000
DTEND;TZID=Europe/Paris:20191108T220000
DTSTAMP:20260425T165714
CREATED:20190827T124416Z
LAST-MODIFIED:20191107T112919Z
UID:2957-1573239600-1573250400@autismenetwerkzuidlimburg.nl
SUMMARY:Filmavond van LGAL en MEE
DESCRIPTION:Twee keer per jaar organiseert LGAL in samenwerking met MEE een filmavond. Het is nog niet bekend welke film we gaan laten zien\, maar zoals altijd zal er een link zijn met autisme \n 
URL:https://autismenetwerkzuidlimburg.nl/event/filmavond-van-lgal-en-mee/
LOCATION:MEE Zuid-Limburg\, Frankenlaan 7\, Heerlen\, 6419 BT\, Nederland
ORGANIZER;CN="LGAL":MAILTO:info@lgal.nl
END:VEVENT
BEGIN:VEVENT
DTSTART;TZID=Europe/Paris:20191113T100000
DTEND;TZID=Europe/Paris:20191113T153000
DTSTAMP:20260425T165714
CREATED:20191108T115034Z
LAST-MODIFIED:20191108T115034Z
UID:3035-1573639200-1573659000@autismenetwerkzuidlimburg.nl
SUMMARY:Dagcursus autisme in Sittard
DESCRIPTION:Op 13 november a.s. geeft autismedeskundige Frans Coolen de cursus ‘Inzicht in autisme’ bij Burgerkracht Limburg. Het is een dagcursus voor iedereen die meer wil begrijpen van autisme. \nAutisme zorgt maar al te vaak voor onbegrip. Of dat nu op school\, universiteit\, op het werk of in het sociale verkeer is. Meestal is dat geen onwil\, maar komt het gewoon omdat we niet weten hoe iemand met autisme denkt en functioneert. Bovendien uit het autisme zich bij iedereen weer anders\, ondanks de gemeenschappelijk kenmerken. \nFrans Coolen leert familieleden en professionals daarom te kijken naar de persoon met autisme. Naar de kwetsbaarheden\, maar zeker ook de mogelijkheden achter de beperking. \nIn de cursus gaat de docent in op wat autisme precies is\, apart gedrag en probleemgedrag en waarom dat optreedt. Extra aandacht is er voor de communicatie. De cursus is zinvol voor iedereen die in privéleven of werk te maken heeft met autisme: ouders\, partners\, docenten en hulpverleners. De kosten zijn laagdrempelig. \nInfo en aanmelden:    www.intoautisme.nl \n 
URL:https://autismenetwerkzuidlimburg.nl/event/dagcursus-autisme-in-sittard/
LOCATION:Burgerkracht Limburg\, Mercator 1\, Sittard\, 6135 KW\, Nederland
ORGANIZER;CN="Intoautisme":MAILTO:publiciteit.intoautisme@gmail.com
END:VEVENT
BEGIN:VEVENT
DTSTART;TZID=Europe/Paris:20191115T093000
DTEND;TZID=Europe/Paris:20191115T170000
DTSTAMP:20260425T165714
CREATED:20190827T122155Z
LAST-MODIFIED:20191108T113903Z
UID:2949-1573810200-1573837200@autismenetwerkzuidlimburg.nl
SUMMARY:NVA AutismeCongres
DESCRIPTION:Thema: werken aan perspectief \nHet programma van het NVA AutismeCongres is dit jaar uitgebreider dan anders! Net als vorige jaren komen er interessante sprekers. En natuurlijk is er weer de bekende informatiemarkt. Je hebt genoeg tijd om lekker bij te kletsen met oude bekenden\, of om nieuwe mensen te ontmoeten. Gelijkgestemden\, die net als jij op zoek zijn naar meer informatie en contact.  \nNieuw dit jaar zijn het Autismecafé\, workshops\, signeersessies\, films en theater. Nog een primeur: je kunt een groot deel van het middagprogramma nu zelf samenstellen. Zo kun je kiezen voor de workshop die het beste bij jouw situatie past. \nMeer info \n 
URL:https://autismenetwerkzuidlimburg.nl/event/nva-autismecongres/
LOCATION:Beatrix Theater Utrecht\, Jaarbeursplein 6A\, Utrecht\, 3521 AL\, Nederland
END:VEVENT
BEGIN:VEVENT
DTSTART;VALUE=DATE:20191117
DTEND;VALUE=DATE:20191118
DTSTAMP:20260425T165714
CREATED:20190827T124734Z
LAST-MODIFIED:20191108T113954Z
UID:2959-1573948800-1574035199@autismenetwerkzuidlimburg.nl
SUMMARY:LGAL Uit eten
DESCRIPTION:Lekker smullen en genieten van de gezelligheid. \nMeer info op de website van LGAL \nDe Lotgenotengroep Autisme Limburg heeft als doel om lotgenotencontact aan te bieden aan volwassenen met een Autisme Spectrum Stoornis (ASS) in de provincie Limburg. Wij stellen geen eisen op het gebied van begaafdheid\, maar verwachten wel dat deelnemers zich op hun gemak voelen in een groep en zich daarin redelijk kunnen uiten. Partners\, ouders en begeleiders die iemand met ASS vergezellen zijn ook welkom. Dat maakt onze aanpak uniek. \nIn een gezellige en ongedwongen sfeer kun je bij ons mensen ontmoeten die jou begrijpen en steunen. Om de drempel voor deelname laag te houden rekenen wij geen contributie. Ook ben je niet verplicht om naar bijeenkomsten te komen. \nDoor het organiseren van minimaal één activiteit per maand en een\, afhankelijk van de locatie\, twee- of vierwekelijkse lotgenotenavond willen wij bereiken dat onze deelnemers: \nWe zijn een organisatie voor mensen met autisme\, door vrijwilligers met autisme.
URL:https://autismenetwerkzuidlimburg.nl/event/lgal-uit-eten/
ORGANIZER;CN="LGAL":MAILTO:info@lgal.nl
END:VEVENT
END:VCALENDAR