BEGIN:VCALENDAR
VERSION:2.0
PRODID:-//Autisme Netwerk Zuid-Limburg - ECPv6.15.14//NONSGML v1.0//EN
CALSCALE:GREGORIAN
METHOD:PUBLISH
X-ORIGINAL-URL:https://autismenetwerkzuidlimburg.nl
X-WR-CALDESC:Evenementen voor Autisme Netwerk Zuid-Limburg
REFRESH-INTERVAL;VALUE=DURATION:PT1H
X-Robots-Tag:noindex
X-PUBLISHED-TTL:PT1H
BEGIN:VTIMEZONE
TZID:Europe/Paris
BEGIN:DAYLIGHT
TZOFFSETFROM:+0100
TZOFFSETTO:+0200
TZNAME:CEST
DTSTART:20200329T010000
END:DAYLIGHT
BEGIN:STANDARD
TZOFFSETFROM:+0200
TZOFFSETTO:+0100
TZNAME:CET
DTSTART:20201025T010000
END:STANDARD
BEGIN:DAYLIGHT
TZOFFSETFROM:+0100
TZOFFSETTO:+0200
TZNAME:CEST
DTSTART:20210328T010000
END:DAYLIGHT
BEGIN:STANDARD
TZOFFSETFROM:+0200
TZOFFSETTO:+0100
TZNAME:CET
DTSTART:20211031T010000
END:STANDARD
BEGIN:DAYLIGHT
TZOFFSETFROM:+0100
TZOFFSETTO:+0200
TZNAME:CEST
DTSTART:20220327T010000
END:DAYLIGHT
BEGIN:STANDARD
TZOFFSETFROM:+0200
TZOFFSETTO:+0100
TZNAME:CET
DTSTART:20221030T010000
END:STANDARD
END:VTIMEZONE
BEGIN:VEVENT
DTSTART;TZID=Europe/Paris:20210617T130000
DTEND;TZID=Europe/Paris:20210617T143000
DTSTAMP:20260424T152802
CREATED:20210615T145742Z
LAST-MODIFIED:20210618T134620Z
UID:3695-1623934800-1623940200@autismenetwerkzuidlimburg.nl
SUMMARY:Brain Blocks regio Westelijke Mijnstreek
DESCRIPTION:Wanneer: Donderdag 17 juni 2021\nTijd: 13.00-14.30 uur\nLocatie: Veiligheidshuis Westelijke Mijnstreek\nAdres: Geleenbeeklaan 2\, 6166 GR Geleen\nSpreker: Consulent en ervaringsdeskundige\nOrganisatie: MEE Zuid-Limburg\nAanmelden: cursussen@meezuidlimburg.nl\nDeelname: Gratis \n  \nDoor een gecertificeerde trainer en ervaringsdeskundige wordt uileg gegeven hoe het brein werkt in een hoofd zonder autisme en wat zijn de verschillen met een hoofd met autisme. \nDe voorlichtingsbijeenkomst is bestemd voor iedereen die vragen heeft over autisme.\nBijvoorbeeld mensen met autisme\, hun ouders\, partners of overige naasten. \nHet doel van Brain Blocks is om één beeld en één taal te creëren over autisme.\nHierdoor kan er gemakkelijker met een persoon met autisme over autisme en de gevolgen daarvan in het dagelijkse functioneren\, gecommuniceerd worden.\nBelangrijk is het vinden van bruggetjes om elkaar beter te begrijpen.
URL:https://autismenetwerkzuidlimburg.nl/event/brain-blocks-2/
ORGANIZER;CN="MEE Zuid-Limburg":MAILTO:servicepunt@meezuidlimburg.nl
END:VEVENT
END:VCALENDAR