BEGIN:VCALENDAR
VERSION:2.0
PRODID:-//Autisme Netwerk Zuid-Limburg - ECPv6.15.14//NONSGML v1.0//EN
CALSCALE:GREGORIAN
METHOD:PUBLISH
X-ORIGINAL-URL:https://autismenetwerkzuidlimburg.nl
X-WR-CALDESC:Evenementen voor Autisme Netwerk Zuid-Limburg
REFRESH-INTERVAL;VALUE=DURATION:PT1H
X-Robots-Tag:noindex
X-PUBLISHED-TTL:PT1H
BEGIN:VTIMEZONE
TZID:Europe/Paris
BEGIN:DAYLIGHT
TZOFFSETFROM:+0100
TZOFFSETTO:+0200
TZNAME:CEST
DTSTART:20200329T010000
END:DAYLIGHT
BEGIN:STANDARD
TZOFFSETFROM:+0200
TZOFFSETTO:+0100
TZNAME:CET
DTSTART:20201025T010000
END:STANDARD
BEGIN:DAYLIGHT
TZOFFSETFROM:+0100
TZOFFSETTO:+0200
TZNAME:CEST
DTSTART:20210328T010000
END:DAYLIGHT
BEGIN:STANDARD
TZOFFSETFROM:+0200
TZOFFSETTO:+0100
TZNAME:CET
DTSTART:20211031T010000
END:STANDARD
BEGIN:DAYLIGHT
TZOFFSETFROM:+0100
TZOFFSETTO:+0200
TZNAME:CEST
DTSTART:20220327T010000
END:DAYLIGHT
BEGIN:STANDARD
TZOFFSETFROM:+0200
TZOFFSETTO:+0100
TZNAME:CET
DTSTART:20221030T010000
END:STANDARD
END:VTIMEZONE
BEGIN:VEVENT
DTSTART;TZID=Europe/Paris:20211001T100000
DTEND;TZID=Europe/Paris:20211001T130000
DTSTAMP:20260424T073118
CREATED:20211001T104123Z
LAST-MODIFIED:20211001T104319Z
UID:4029-1633082400-1633093200@autismenetwerkzuidlimburg.nl
SUMMARY:Auti corner Treebeek
DESCRIPTION:Ontmoetingsplek voor mensen met autisme. \n\n\n\nGraag willen wij mensen met autisme een plek bieden waar men elkaar kan ontmoeten in een ontspannen sfeer.\nGewoon om gezellig een kopje koffie/thee te komen drinken of om even uit je eigen sleur te stappen.\nDe vrije inloop voor mensen met ASS (auticorner) is eens in de twee weken van 10.00 uur tot 13.00 uur.\nDe inloopdagen zijn op de Facebookpagina van het Leger des Heils te Treebeek terug te vinden. \nKorps Treebeek Leger des Heils\nHorizonstraat 77\n6446 SC Brunssum\nTelefoon: 06-83451290\nE-mail GidB.auticorner@legerdesheils.nl\nFacebook: Leger des Heils Treebeek L
URL:https://autismenetwerkzuidlimburg.nl/event/auti-corner-treebeek/
LOCATION:Auticorner\, Horizonstraat 77\, Brunssum\, 6446 SC\, Nederland
ORGANIZER;CN="Leger des Heils":MAILTO:laura6924@gmail.com
END:VEVENT
BEGIN:VEVENT
DTSTART;TZID=Europe/Paris:20211005T190000
DTEND;TZID=Europe/Paris:20211005T213000
DTSTAMP:20260424T073118
CREATED:20211001T111230Z
LAST-MODIFIED:20211001T111606Z
UID:4060-1633460400-1633469400@autismenetwerkzuidlimburg.nl
SUMMARY:Lotgenotengroep Autisme Limburg
DESCRIPTION:Op dinsdag 5 oktober 2021 vindt onze volgende fysieke lotgenotenavond plaats.\nDe locatie is het Leger des Heils in Treebeek\, Horizonstraat 77\, 6446 SC in Brunssum.\nHet thema van de avond is: Presentatie over Streepjescode door Lindy Simons.\n\n\n\nDe Streepjescode is een werkblad waarmee je in kaart kunt brengen hoe ASS er bij jou uitziet.\nJe kunt hierin opschrijven wat voor jou belangrijk is en wat je nodig hebt\, maar ook waar juist jouw kracht ligt.\nOverzichtelijk op één A4\, zodat je het ook gemakkelijk aan je omgeving kunt uitleggen.\n\n\n\n\nTijdens de presentatie gaan we het hebben over hoe de Streepjescode werkt en kun je jouw persoonlijke Streepjescode invullen.\n\n\nPresentatie door Lindy Simons\, gedragsdeskundige (psycholoog) bij STEVIG.\n\n\nWe hebben in Treebeek de beschikking over goed geventileerde ruimtes. Het maximum aantal deelnemers is 36\, dit is exclusief de gespreksleiders. \n\n\n\n\n\n\nMeld je dus op tijd aan. \n\n\n\nAgenda:\n\n\n19.00 – 19.30 : Inloop\n19.30 – 20.30 : Presentatie Streepjescode\n20.30 – 20.45 : Pauze\n20.45 – 21.15 : Verder met het thema\n\n21.15 – 21.30 : Rondvraag en afsluiting van deze avond \n\n\n\nKoffie en thee zijn gratis verkrijgbaar aan de bar in de voorste ruimte.\n\n\nAanmelden kan tot uiterlijk maandagavond vanwege de toenemende drukte.\nWe hebben dan meer tijd voor de planning.\n\n\nInformatie over onze komende lotgenotenavonden en activiteiten vinden jullie op www.lgal.nl. \nMet vriendelijke groet\, \n\nDe commissie lotgenotenavond
URL:https://autismenetwerkzuidlimburg.nl/event/lotgenotengroep-autisme-limburg-2/
LOCATION:Auticorner\, Horizonstraat 77\, Brunssum\, 6446 SC\, Nederland
ORGANIZER;CN="LGAL":MAILTO:info@lgal.nl
END:VEVENT
BEGIN:VEVENT
DTSTART;TZID=Europe/Paris:20211015T100000
DTEND;TZID=Europe/Paris:20211015T130000
DTSTAMP:20260424T073118
CREATED:20211001T110725Z
LAST-MODIFIED:20211001T110725Z
UID:4056-1634292000-1634302800@autismenetwerkzuidlimburg.nl
SUMMARY:Auti corner Treebeek
DESCRIPTION:Ontmoetingsplek voor mensen met autisme. \n\n\n\nGraag willen wij mensen met autisme een plek bieden waar men elkaar kan ontmoeten in een ontspannen sfeer.\nGewoon om gezellig een kopje koffie/thee te komen drinken of om even uit je eigen sleur te stappen.\nDe vrije inloop voor mensen met ASS (auticorner) is eens in de twee weken van 10.00 uur tot 13.00 uur.\nDe inloopdagen zijn op de Facebookpagina van het Leger des Heils te Treebeek terug te vinden. \nKorps Treebeek Leger des Heils\nHorizonstraat 77\n6446 SC Brunssum\nTelefoon: 06-83451290\nE-mail GidB.auticorner@legerdesheils.nl\nFacebook: Leger des Heils Treebeek L
URL:https://autismenetwerkzuidlimburg.nl/event/auti-corner-treebeek-2/
LOCATION:Auticorner\, Horizonstraat 77\, Brunssum\, 6446 SC\, Nederland
ORGANIZER;CN="Leger des Heils":MAILTO:laura6924@gmail.com
END:VEVENT
BEGIN:VEVENT
DTSTART;TZID=Europe/Paris:20211021T130000
DTEND;TZID=Europe/Paris:20211021T143000
DTSTAMP:20260424T073118
CREATED:20210618T140210Z
LAST-MODIFIED:20210618T140210Z
UID:3712-1634821200-1634826600@autismenetwerkzuidlimburg.nl
SUMMARY:Brain Blocks regio Parkstad
DESCRIPTION:Wanneer: Donderdag 21 oktober 2021\nTijd: 13.00-14.30 uur\nLocatie: MEE Zuid-Limburg\nAdres: Frankenlaan 7\, 6419 BT Heerlen\nSpreker: Consulent en ervaringsdeskundige\nOrganisatie: MEE Zuid-Limburg\nAanmelden: cursussen@meezuidlimburg.nl\nDeelname: Gratis \n  \nDoor een gecertificeerde trainer en ervaringsdeskundige wordt uileg gegeven hoe het brein werkt in een hoofd zonder autisme en wat zijn de verschillen met een hoofd met autisme. \nDe voorlichtingsbijeenkomst is bestemd voor iedereen die vragen heeft over autisme.\nBijvoorbeeld mensen met autisme\, hun ouders\, partners of overige naasten. \nHet doel van Brain Blocks is om één beeld en één taal te creëren over autisme.\nHierdoor kan er gemakkelijker met een persoon met autisme over autisme en de gevolgen daarvan in het dagelijkse functioneren\, gecommuniceerd worden.\nBelangrijk is het vinden van bruggetjes om elkaar beter te begrijpen.
URL:https://autismenetwerkzuidlimburg.nl/event/brain-blocks-regio-parkstad-2/
END:VEVENT
BEGIN:VEVENT
DTSTART;TZID=Europe/Paris:20211021T190000
DTEND;TZID=Europe/Paris:20211021T213000
DTSTAMP:20260424T073118
CREATED:20211004T095019Z
LAST-MODIFIED:20211004T095019Z
UID:4065-1634842800-1634851800@autismenetwerkzuidlimburg.nl
SUMMARY:Auti-Treff
DESCRIPTION:Wij willen u graag uitnodigen voor een bijeenkomst van Auti-Treff en autisme-informatiepunt van de NVA op\ndonderdag 21 oktober 2021 om 19.00 uur op onze nieuwe locatie in Kerkrade\, Spekhofstraat 15 in het Flexiforum.\nHet autisme-informatiepunt bij AutiTreff is open vanaf 19.00 uur.\nU bent van harte welkom om 19.00 uur! \nDit adres is makkelijk bereikbaar via de autoweg en u kunt makkelijk en gratis parkeren.\nWij staan voor u klaar bij de ingang.\nWij zijn blij weer een bijeenkomst te kunnen organiseren na de lange en stille corona-periode.\nWe gaan op donderdag 21 oktober tijd nemen om ervaringen uit te wisselen.\nDe koffie en thee staat klaar en is gratis. \nU moet wel even aanmelden vooraf via Marga Houben via autitreff@gmail.com\nU kunt ons ook bellen via 06-46201011 (telefoonnummer Natalie Savelsbergh) \nTot ziens! \nAuti-Treff \nMarga Houben\, Doris Balmaekers en Natalie Savelsbergh
URL:https://autismenetwerkzuidlimburg.nl/event/auti-treff-2/
LOCATION:Flexiforum\, Spekhofstraat 15\, Kerkrade\, 6466 KP\, Nederland
ORGANIZER;CN="Auti-Treff":MAILTO:autitreff@gmail.com
END:VEVENT
BEGIN:VEVENT
DTSTART;TZID=Europe/Paris:20211029T100000
DTEND;TZID=Europe/Paris:20211029T130000
DTSTAMP:20260424T073119
CREATED:20211001T111812Z
LAST-MODIFIED:20211025T122100Z
UID:4063-1635501600-1635512400@autismenetwerkzuidlimburg.nl
SUMMARY:Auti corner Treebeek
DESCRIPTION:Ontmoetingsplek voor mensen met autisme. \n\n\n\nGraag willen wij mensen met autisme een plek bieden waar men elkaar kan ontmoeten in een ontspannen sfeer.\nGewoon om gezellig een kopje koffie/thee te komen drinken of om even uit je eigen sleur te stappen.\nDe vrije inloop voor mensen met ASS (auticorner) is eens in de twee weken van 10.00 uur tot 13.00 uur.\nDe inloopdagen zijn op de Facebookpagina van het Leger des Heils te Treebeek terug te vinden. \nKorps Treebeek Leger des Heils\nHorizonstraat 77\n6446 SC Brunssum\nTelefoon: 06-83451290\nE-mail GidB.auticorner@legerdesheils.nl\nFacebook: Leger des Heils Treebeek L
URL:https://autismenetwerkzuidlimburg.nl/event/auti-corner-treebeek-3/2021-10-29/
LOCATION:Auticorner\, Horizonstraat 77\, Brunssum\, 6446 SC\, Nederland
ORGANIZER;CN="Leger des Heils":MAILTO:laura6924@gmail.com
END:VEVENT
END:VCALENDAR