BEGIN:VCALENDAR
VERSION:2.0
PRODID:-//Autisme Netwerk Zuid-Limburg - ECPv6.15.14//NONSGML v1.0//EN
CALSCALE:GREGORIAN
METHOD:PUBLISH
X-WR-CALNAME:Autisme Netwerk Zuid-Limburg
X-ORIGINAL-URL:https://autismenetwerkzuidlimburg.nl
X-WR-CALDESC:Evenementen voor Autisme Netwerk Zuid-Limburg
REFRESH-INTERVAL;VALUE=DURATION:PT1H
X-Robots-Tag:noindex
X-PUBLISHED-TTL:PT1H
BEGIN:VTIMEZONE
TZID:Europe/Paris
BEGIN:DAYLIGHT
TZOFFSETFROM:+0100
TZOFFSETTO:+0200
TZNAME:CEST
DTSTART:20200329T010000
END:DAYLIGHT
BEGIN:STANDARD
TZOFFSETFROM:+0200
TZOFFSETTO:+0100
TZNAME:CET
DTSTART:20201025T010000
END:STANDARD
BEGIN:DAYLIGHT
TZOFFSETFROM:+0100
TZOFFSETTO:+0200
TZNAME:CEST
DTSTART:20210328T010000
END:DAYLIGHT
BEGIN:STANDARD
TZOFFSETFROM:+0200
TZOFFSETTO:+0100
TZNAME:CET
DTSTART:20211031T010000
END:STANDARD
BEGIN:DAYLIGHT
TZOFFSETFROM:+0100
TZOFFSETTO:+0200
TZNAME:CEST
DTSTART:20220327T010000
END:DAYLIGHT
BEGIN:STANDARD
TZOFFSETFROM:+0200
TZOFFSETTO:+0100
TZNAME:CET
DTSTART:20221030T010000
END:STANDARD
END:VTIMEZONE
BEGIN:VEVENT
DTSTART;TZID=Europe/Paris:20211105T133000
DTEND;TZID=Europe/Paris:20211105T153000
DTSTAMP:20260424T055407
CREATED:20211018T111849Z
LAST-MODIFIED:20211018T111849Z
UID:4069-1636119000-1636126200@autismenetwerkzuidlimburg.nl
SUMMARY:Lotgenotencontact
DESCRIPTION:Wanneer: Eerste vrijdag van de maand\nTijd: 13.30-15.30 uur\nLocatie: MEE Zuid-Limburg\nAdres: Frankenlaan 7\, 6419 BT Heerlen\nSpreker: Consulent\nOrganisatie: MEE Zuid-Limburg\nAanmelden: cursussen@meezuidlimburg.nl of 088 010 22 22\nDeelname: Gratis \nWaarover gaat het lotgenotencontact?\nEen praatgroep waarin de deelnemers per bijeenkomst 1 thema bespreken.\nHet thema wordt door de deelnemers bepaald.\nOok worden er ervaringen met elkaar gedeeld waardoor de deelnemers van elkaar kunnen leren. \nVoor wie?\nHet lotgenotencontact is voor volwassen mensen met een normale begaafdheid en autisme.
URL:https://autismenetwerkzuidlimburg.nl/event/lotgenotencontact/
LOCATION:MEE Zuid-Limburg\, Frankenlaan 7\, Heerlen\, 6419 BT\, Nederland
ORGANIZER;CN="MEE Zuid-Limburg":MAILTO:servicepunt@meezuidlimburg.nl
END:VEVENT
BEGIN:VEVENT
DTSTART;TZID=Europe/Paris:20211109T100000
DTEND;TZID=Europe/Paris:20211109T120000
DTSTAMP:20260424T055407
CREATED:20211018T112404Z
LAST-MODIFIED:20211018T113833Z
UID:4071-1636452000-1636459200@autismenetwerkzuidlimburg.nl
SUMMARY:Inloopochtend voor verwanten met mensen met autisme
DESCRIPTION:Wanneer: Tweede dinsdag van de maand\nTijd: 10.00-12.00 uur\nLocatie: MEE Zuid-Limburg\nAdres: Frankenlaan 7\, 6419 BT Heerlen\nSpreker: Consulent\nOrganisatie: MEE Zuid-Limburg\nAanmelden: cursussen@meezuidlimburg.nl of 088 010 22 22\nDeelname: Gratis \nVoor wie is deze bijeenkomst?\nTijdens deze bijeenkomsten kunnen partners van mensen met autisme praten over hun eigen ervaringen\, maar ook luisteren naar anderen. Zo kunnen zij ervaren dat anderen vaak dezelfde gevoelens en ervaringen hebben. \nWaarover gaat de bijeenkomst?\nBent u geïnteresseerd in de ervaringen van andere partners? Hebt u vragen waarvoor u een oplossing zoekt? Hebt u behoefte om hier met anderen over te praten? Dan zijn de ontmoetingsbijeenkomsten wellicht iets voor u! De bijeenkomsten kunnen geheel vrijblijvend worden bezocht door iedereen die partner is van iemand met autisme. Consulenten van MEE zijn aanwezig om daar waar nodig\, bij vragen\, verhalen\, gesprekken of gevoelens te begeleiden.
URL:https://autismenetwerkzuidlimburg.nl/event/lotgenotencontact-2/
LOCATION:MEE Zuid-Limburg\, Frankenlaan 7\, Heerlen\, 6419 BT\, Nederland
ORGANIZER;CN="MEE Zuid-Limburg":MAILTO:servicepunt@meezuidlimburg.nl
END:VEVENT
BEGIN:VEVENT
DTSTART;TZID=Europe/Paris:20211118T130000
DTEND;TZID=Europe/Paris:20211118T143000
DTSTAMP:20260424T055407
CREATED:20211108T154757Z
LAST-MODIFIED:20211108T154757Z
UID:4094-1637240400-1637245800@autismenetwerkzuidlimburg.nl
SUMMARY:Brain Blocks informatie
DESCRIPTION:Wanneer: Donderdag 18 november 2021\nTijd: 13.00-14.30 uur\nDigitaal: Via MS teams\nSpreker: Consulent en ervaringsdeskundige\nOrganisatie: MEE Zuid-Limburg\nAanmelden: cursussen@meezuidlimburg.nl\nDeelname: Gratis \n  \nDoor een gecertificeerde trainer en ervaringsdeskundige wordt uileg gegeven hoe het brein werkt in een hoofd zonder autisme en wat zijn de verschillen met een hoofd met autisme. \nDe voorlichtingsbijeenkomst is bestemd voor iedereen die vragen heeft over autisme.\nBijvoorbeeld mensen met autisme\, hun ouders\, partners of overige naasten. \nHet doel van Brain Blocks is om één beeld en één taal te creëren over autisme.\nHierdoor kan er gemakkelijker met een persoon met autisme over autisme en de gevolgen daarvan in het dagelijkse functioneren\, gecommuniceerd worden.\nBelangrijk is het vinden van bruggetjes om elkaar beter te begrijpen.
URL:https://autismenetwerkzuidlimburg.nl/event/brain-blocks-informatie/
ORGANIZER;CN="MEE Zuid-Limburg":MAILTO:servicepunt@meezuidlimburg.nl
END:VEVENT
BEGIN:VEVENT
DTSTART;TZID=Europe/Paris:20211119T193000
DTEND;TZID=Europe/Paris:20211119T213000
DTSTAMP:20260424T055407
CREATED:20211116T135103Z
LAST-MODIFIED:20211116T135242Z
UID:4100-1637350200-1637357400@autismenetwerkzuidlimburg.nl
SUMMARY:Mama Vita Zuid-Limburg
DESCRIPTION:Wanneer: 19 november\nTijd: 19.30-21.30 uur\nLocatie: De Dames Hond\nAdres: Heggenstraat 32\, 6371 XZ Landgraaf\nOrganisatie: Mama Vita Zuid-Limburg\nAanmelden: zuidlimburg@mamavita.nl\nDeelname: Gratis \nVoor wie is deze bijeenkomst?\nJe bent moeder / verzorgster van een kind met diagnose autisme. \nWaarover gaat de bijeenkomst?\nJe hebt een positieve instelling en meestal sla je je overal wel doorheen! Maar … soms heb je óók het gevoel dat je er wel erg alleen voor staat\, of word je moe van oordelen en onwetendheid van de omgeving. Je hebt behoefte aan steun en / of inspiratie? Wil jij andere moeders van een kind met autisme ontmoeten in een ontspannen setting? \nWat gaan we doen ? Een leuk spel als ijsbreker en op een ontspannen manier kennis maken met elkaar.
URL:https://autismenetwerkzuidlimburg.nl/event/mama-vita-zuid-limburg/
LOCATION:De Dames Hond\, Heggenweg 32\, Landgraaf\, 6371 XZ\, Nederland
END:VEVENT
BEGIN:VEVENT
DTSTART;TZID=Europe/Paris:20211126T110000
DTEND;TZID=Europe/Paris:20211126T170000
DTSTAMP:20260424T055407
CREATED:20211025T115332Z
LAST-MODIFIED:20211025T115332Z
UID:4081-1637924400-1637946000@autismenetwerkzuidlimburg.nl
SUMMARY:NVA congres uitgesteld naar 2022
DESCRIPTION:Het NVA congres 2021 van vrijdag 26 november 2021 is uitgesteld naar 2022\nInformatie vind je in de link: NVA – NVA-Autismecongres uitgesteld.
URL:https://autismenetwerkzuidlimburg.nl/event/nva-congres-uitgesteld-naar-2022/
END:VEVENT
END:VCALENDAR