BEGIN:VCALENDAR
VERSION:2.0
PRODID:-//Autisme Netwerk Zuid-Limburg - ECPv6.15.14//NONSGML v1.0//EN
CALSCALE:GREGORIAN
METHOD:PUBLISH
X-WR-CALNAME:Autisme Netwerk Zuid-Limburg
X-ORIGINAL-URL:https://autismenetwerkzuidlimburg.nl
X-WR-CALDESC:Evenementen voor Autisme Netwerk Zuid-Limburg
REFRESH-INTERVAL;VALUE=DURATION:PT1H
X-Robots-Tag:noindex
X-PUBLISHED-TTL:PT1H
BEGIN:VTIMEZONE
TZID:Europe/Paris
BEGIN:DAYLIGHT
TZOFFSETFROM:+0100
TZOFFSETTO:+0200
TZNAME:CEST
DTSTART:20200329T010000
END:DAYLIGHT
BEGIN:STANDARD
TZOFFSETFROM:+0200
TZOFFSETTO:+0100
TZNAME:CET
DTSTART:20201025T010000
END:STANDARD
BEGIN:DAYLIGHT
TZOFFSETFROM:+0100
TZOFFSETTO:+0200
TZNAME:CEST
DTSTART:20210328T010000
END:DAYLIGHT
BEGIN:STANDARD
TZOFFSETFROM:+0200
TZOFFSETTO:+0100
TZNAME:CET
DTSTART:20211031T010000
END:STANDARD
BEGIN:DAYLIGHT
TZOFFSETFROM:+0100
TZOFFSETTO:+0200
TZNAME:CEST
DTSTART:20220327T010000
END:DAYLIGHT
BEGIN:STANDARD
TZOFFSETFROM:+0200
TZOFFSETTO:+0100
TZNAME:CET
DTSTART:20221030T010000
END:STANDARD
END:VTIMEZONE
BEGIN:VEVENT
DTSTART;TZID=Europe/Paris:20211202T193000
DTEND;TZID=Europe/Paris:20211202T213000
DTSTAMP:20260424T040208
CREATED:20211021T101748Z
LAST-MODIFIED:20211025T122332Z
UID:4077-1638473400-1638480600@autismenetwerkzuidlimburg.nl
SUMMARY:Webinar Peter Vermeulen
DESCRIPTION:Wanneer: Donderdag 2 december 2021\nTijd: 19.30-21.30 uur\nLocatie: Webinar via Virtual Meet\nOnderwerp: Een nieuwe visie op de informatieverwerking bij mensen met autisme\nSpreker: Peter Vermeulen\nOrganisatie: NVA\nInfo en aanmelden: NVA – Peter Vermeulen\, live in Amsterdam (autisme.nl)\nDeelname: € 6\,00
URL:https://autismenetwerkzuidlimburg.nl/event/4077/
END:VEVENT
BEGIN:VEVENT
DTSTART;TZID=Europe/Paris:20211209T130000
DTEND;TZID=Europe/Paris:20211209T143000
DTSTAMP:20260424T040208
CREATED:20211108T140828Z
LAST-MODIFIED:20211108T154308Z
UID:3717-1639054800-1639060200@autismenetwerkzuidlimburg.nl
SUMMARY:Brain Blocks informatie
DESCRIPTION:Wanneer: Donderdag 9 december 2021\nTijd: 13.00-14.30 uur\nDigitaal: Via MS teams\nSpreker: Consulent en ervaringsdeskundige\nOrganisatie: MEE Zuid-Limburg\nAanmelden: cursussen@meezuidlimburg.nl\nDeelname: Gratis \n  \nDoor een gecertificeerde trainer en ervaringsdeskundige wordt uileg gegeven hoe het brein werkt in een hoofd zonder autisme en wat zijn de verschillen met een hoofd met autisme. \nDe voorlichtingsbijeenkomst is bestemd voor iedereen die vragen heeft over autisme.\nBijvoorbeeld mensen met autisme\, hun ouders\, partners of overige naasten. \nHet doel van Brain Blocks is om één beeld en één taal te creëren over autisme.\nHierdoor kan er gemakkelijker met een persoon met autisme over autisme en de gevolgen daarvan in het dagelijkse functioneren\, gecommuniceerd worden.\nBelangrijk is het vinden van bruggetjes om elkaar beter te begrijpen.
URL:https://autismenetwerkzuidlimburg.nl/event/brain-blocks-regio-westelijke-mijnstreek/
ORGANIZER;CN="MEE Zuid-Limburg":MAILTO:servicepunt@meezuidlimburg.nl
END:VEVENT
END:VCALENDAR