BEGIN:VCALENDAR
VERSION:2.0
PRODID:-//Autisme Netwerk Zuid-Limburg - ECPv6.15.14//NONSGML v1.0//EN
CALSCALE:GREGORIAN
METHOD:PUBLISH
X-ORIGINAL-URL:https://autismenetwerkzuidlimburg.nl
X-WR-CALDESC:Evenementen voor Autisme Netwerk Zuid-Limburg
REFRESH-INTERVAL;VALUE=DURATION:PT1H
X-Robots-Tag:noindex
X-PUBLISHED-TTL:PT1H
BEGIN:VTIMEZONE
TZID:Europe/Paris
BEGIN:DAYLIGHT
TZOFFSETFROM:+0100
TZOFFSETTO:+0200
TZNAME:CEST
DTSTART:20210328T010000
END:DAYLIGHT
BEGIN:STANDARD
TZOFFSETFROM:+0200
TZOFFSETTO:+0100
TZNAME:CET
DTSTART:20211031T010000
END:STANDARD
BEGIN:DAYLIGHT
TZOFFSETFROM:+0100
TZOFFSETTO:+0200
TZNAME:CEST
DTSTART:20220327T010000
END:DAYLIGHT
BEGIN:STANDARD
TZOFFSETFROM:+0200
TZOFFSETTO:+0100
TZNAME:CET
DTSTART:20221030T010000
END:STANDARD
BEGIN:DAYLIGHT
TZOFFSETFROM:+0100
TZOFFSETTO:+0200
TZNAME:CEST
DTSTART:20230326T010000
END:DAYLIGHT
BEGIN:STANDARD
TZOFFSETFROM:+0200
TZOFFSETTO:+0100
TZNAME:CET
DTSTART:20231029T010000
END:STANDARD
END:VTIMEZONE
BEGIN:VEVENT
DTSTART;TZID=Europe/Paris:20220120T130000
DTEND;TZID=Europe/Paris:20220120T143000
DTSTAMP:20260424T024129
CREATED:20220117T122601Z
LAST-MODIFIED:20220117T122601Z
UID:4095-1642683600-1642689000@autismenetwerkzuidlimburg.nl
SUMMARY:Brain Blocks informatie
DESCRIPTION:Wanneer: Donderdag 20 januari 2022\nTijd: 13.00-14.30 uur\nDigitaal: Via MS teams\nSpreker: Consulent en ervaringsdeskundige\nOrganisatie: MEE Zuid-Limburg\nAanmelden: cursussen@meezuidlimburg.nl\nDeelname: Gratis \n  \nDoor een gecertificeerde trainer en ervaringsdeskundige wordt uileg gegeven hoe het brein werkt in een hoofd zonder autisme en wat zijn de verschillen met een hoofd met autisme. \nDe voorlichtingsbijeenkomst is bestemd voor iedereen die vragen heeft over autisme.\nBijvoorbeeld mensen met autisme\, hun ouders\, partners of overige naasten. \nHet doel van Brain Blocks is om één beeld en één taal te creëren over autisme.\nHierdoor kan er gemakkelijker met een persoon met autisme over autisme en de gevolgen daarvan in het dagelijkse functioneren\, gecommuniceerd worden.\nBelangrijk is het vinden van bruggetjes om elkaar beter te begrijpen.
URL:https://autismenetwerkzuidlimburg.nl/event/brain-blocks-informatie-2/
ORGANIZER;CN="MEE Zuid-Limburg":MAILTO:servicepunt@meezuidlimburg.nl
END:VEVENT
BEGIN:VEVENT
DTSTART;TZID=Europe/Paris:20220127T193000
DTEND;TZID=Europe/Paris:20220127T210000
DTSTAMP:20260424T024129
CREATED:20220117T121711Z
LAST-MODIFIED:20220117T122915Z
UID:4135-1643311800-1643317200@autismenetwerkzuidlimburg.nl
SUMMARY:Lezing Omdenken bij autisme
DESCRIPTION:Wanneer: Donderdag 27 januari 2022\nTijd: 19.30-21.00 uur\nLocatie: Via Zoom\nSprekers: Birsen Basar\, NVA Ambassadeur\nAanmelden: https://forms.gle/Gn5xaNSoZTSDa1HE6\nDeelname: € 15\,00 \nLezing “Omdenken bij Autisme”\nDe lezing gaat over het feit dat sommige mensen met autisme meer zwart en wit denken\, oftewel denken in problemen in plaats van mogelijkheden. Ik leg de redenen uit en laat ik tools zien waarmee geoefend kan worden om dat te kunnen veranderen. \nSpreekster Birsen Basar:\nUitgebreide informatie is te lezen op haar website www.birsenbasar.com
URL:https://autismenetwerkzuidlimburg.nl/event/lezing-omdenken-bij-autisme/
END:VEVENT
BEGIN:VEVENT
DTSTART;TZID=Europe/Paris:20220131T193000
DTEND;TZID=Europe/Paris:20220131T210000
DTSTAMP:20260424T024129
CREATED:20220117T121850Z
LAST-MODIFIED:20220117T122827Z
UID:4137-1643657400-1643662800@autismenetwerkzuidlimburg.nl
SUMMARY:Lezing Stress bij mensen met autisme
DESCRIPTION:Wanneer: Maandag 31 januari 2022\nTijd: 19.30-21.00 uur\nLocatie: Via Zoom\nSprekers: Birsen Basar\, NVA Ambassadeur\nAanmelden: https://forms.gle/Gn5xaNSoZTSDa1HE6\nDeelname: € 15\,00 \nLezing “Stress bij mensen met autisme”\nDe lezing gaat het om wat de factoren zijn die stress veroorzaken en wat de persoon met autisme en diens omgeving kunnen doen om daar anders mee om te gaan. \nSpreekster Birsen Basar:\nUitgebreide informatie is te lezen op haar website www.birsenbasar.com
URL:https://autismenetwerkzuidlimburg.nl/event/lezing-stress-bij-mensen-met-autisme/
END:VEVENT
END:VCALENDAR