BEGIN:VCALENDAR
VERSION:2.0
PRODID:-//Autisme Netwerk Zuid-Limburg - ECPv6.15.14//NONSGML v1.0//EN
CALSCALE:GREGORIAN
METHOD:PUBLISH
X-WR-CALNAME:Autisme Netwerk Zuid-Limburg
X-ORIGINAL-URL:https://autismenetwerkzuidlimburg.nl
X-WR-CALDESC:Evenementen voor Autisme Netwerk Zuid-Limburg
REFRESH-INTERVAL;VALUE=DURATION:PT1H
X-Robots-Tag:noindex
X-PUBLISHED-TTL:PT1H
BEGIN:VTIMEZONE
TZID:Europe/Paris
BEGIN:DAYLIGHT
TZOFFSETFROM:+0100
TZOFFSETTO:+0200
TZNAME:CEST
DTSTART:20200329T010000
END:DAYLIGHT
BEGIN:STANDARD
TZOFFSETFROM:+0200
TZOFFSETTO:+0100
TZNAME:CET
DTSTART:20201025T010000
END:STANDARD
BEGIN:DAYLIGHT
TZOFFSETFROM:+0100
TZOFFSETTO:+0200
TZNAME:CEST
DTSTART:20210328T010000
END:DAYLIGHT
BEGIN:STANDARD
TZOFFSETFROM:+0200
TZOFFSETTO:+0100
TZNAME:CET
DTSTART:20211031T010000
END:STANDARD
BEGIN:DAYLIGHT
TZOFFSETFROM:+0100
TZOFFSETTO:+0200
TZNAME:CEST
DTSTART:20220327T010000
END:DAYLIGHT
BEGIN:STANDARD
TZOFFSETFROM:+0200
TZOFFSETTO:+0100
TZNAME:CET
DTSTART:20221030T010000
END:STANDARD
END:VTIMEZONE
BEGIN:VEVENT
DTSTART;TZID=Europe/Paris:20210817T190000
DTEND;TZID=Europe/Paris:20210817T203000
DTSTAMP:20260424T164401
CREATED:20210802T135618Z
LAST-MODIFIED:20210802T135618Z
UID:3764-1629226800-1629232200@autismenetwerkzuidlimburg.nl
SUMMARY:Autisme Info Stein
DESCRIPTION:Dinsdag 17 augustus | 19.00 – 20.30 uur | Locatie: Punt39\, Burgemeester Maenenstraat 39\, 6181 EA Elsloo \n\nEen ontmoetingsplek voor mensen met autisme\, hun familie en andere betrokkenen. Tijdens de bijeenkomsten staat informele ontmoeting centraal. Je kunt ervaringen en informatie delen\, vragen stellen en soms bespreekt een inhoudsdeskundige gastspreker een bepaald thema.\n\n\nHet thema van deze bijeenkomst zal zijn:\nHoe kan je iemand helpen die in een crisissituatie zit? Daarbij aandacht hebben voor het bewaken van je grenzen en het omgaan met emoties.\n\n\nDe bijeenkomst wordt begeleid door Sandy Simons van Stichting MEE Zuid-Limburg.\n\n\n\nEen aantal regels:\n– Inloop vanaf 18.55 uur\, kom alsjeblieft niet eerder\n– Bij binnenkomst worden je naam\, postcode en telefoonnummer opgeschreven\n– Bij binnenkomst moet je je handen desinfecteren en kunnen een aantal gezondheidsvragen worden gesteld\n– Volg de looprichting in het gebouw en draag een mondkapje tot je zit\n– Bij verkoudheidsklachten blijf je thuis\n– Er zal koffie en thee aanwezig zijn\, deze mag je zelf inschenken\n\n\n\nHeb jij een onderwerp wat je in de toekomst graag zou willen bespreken tijdens een bijeenkomst van Autisme Info Stein? Mail het onderwerp dan vóór vrijdag 13 augustus naar Sandy: s.simons@meezuidlimburg.nl.
URL:https://autismenetwerkzuidlimburg.nl/event/autisme-info-stein-8/
LOCATION:Burgemeester Maenenstraat 39\, 6181 EA Elsloo\, Burgemeester Maenenstraat 39\, Elsloo\, 6181 EA\, Nederland
ORGANIZER;CN="MEE Zuid-Limburg":MAILTO:servicepunt@meezuidlimburg.nl
END:VEVENT
END:VCALENDAR