BEGIN:VCALENDAR
VERSION:2.0
PRODID:-//Autisme Netwerk Zuid-Limburg - ECPv6.15.14//NONSGML v1.0//EN
CALSCALE:GREGORIAN
METHOD:PUBLISH
X-ORIGINAL-URL:https://autismenetwerkzuidlimburg.nl
X-WR-CALDESC:Evenementen voor Autisme Netwerk Zuid-Limburg
REFRESH-INTERVAL;VALUE=DURATION:PT1H
X-Robots-Tag:noindex
X-PUBLISHED-TTL:PT1H
BEGIN:VTIMEZONE
TZID:Europe/Paris
BEGIN:DAYLIGHT
TZOFFSETFROM:+0100
TZOFFSETTO:+0200
TZNAME:CEST
DTSTART:20200329T010000
END:DAYLIGHT
BEGIN:STANDARD
TZOFFSETFROM:+0200
TZOFFSETTO:+0100
TZNAME:CET
DTSTART:20201025T010000
END:STANDARD
BEGIN:DAYLIGHT
TZOFFSETFROM:+0100
TZOFFSETTO:+0200
TZNAME:CEST
DTSTART:20210328T010000
END:DAYLIGHT
BEGIN:STANDARD
TZOFFSETFROM:+0200
TZOFFSETTO:+0100
TZNAME:CET
DTSTART:20211031T010000
END:STANDARD
BEGIN:DAYLIGHT
TZOFFSETFROM:+0100
TZOFFSETTO:+0200
TZNAME:CEST
DTSTART:20220327T010000
END:DAYLIGHT
BEGIN:STANDARD
TZOFFSETFROM:+0200
TZOFFSETTO:+0100
TZNAME:CET
DTSTART:20221030T010000
END:STANDARD
BEGIN:DAYLIGHT
TZOFFSETFROM:+0100
TZOFFSETTO:+0200
TZNAME:CEST
DTSTART:20230326T010000
END:DAYLIGHT
BEGIN:STANDARD
TZOFFSETFROM:+0200
TZOFFSETTO:+0100
TZNAME:CET
DTSTART:20231029T010000
END:STANDARD
BEGIN:DAYLIGHT
TZOFFSETFROM:+0100
TZOFFSETTO:+0200
TZNAME:CEST
DTSTART:20240331T010000
END:DAYLIGHT
BEGIN:STANDARD
TZOFFSETFROM:+0200
TZOFFSETTO:+0100
TZNAME:CET
DTSTART:20241027T010000
END:STANDARD
BEGIN:DAYLIGHT
TZOFFSETFROM:+0100
TZOFFSETTO:+0200
TZNAME:CEST
DTSTART:20250330T010000
END:DAYLIGHT
BEGIN:STANDARD
TZOFFSETFROM:+0200
TZOFFSETTO:+0100
TZNAME:CET
DTSTART:20251026T010000
END:STANDARD
BEGIN:DAYLIGHT
TZOFFSETFROM:+0100
TZOFFSETTO:+0200
TZNAME:CEST
DTSTART:20260329T010000
END:DAYLIGHT
BEGIN:STANDARD
TZOFFSETFROM:+0200
TZOFFSETTO:+0100
TZNAME:CET
DTSTART:20261025T010000
END:STANDARD
END:VTIMEZONE
BEGIN:VEVENT
DTSTART;TZID=Europe/Paris:20250701T193000
DTEND;TZID=Europe/Paris:20250701T213000
DTSTAMP:20260424T024112
CREATED:20250501T163054Z
LAST-MODIFIED:20250501T185910Z
UID:4667-1751398200-1751405400@autismenetwerkzuidlimburg.nl
SUMMARY:Lotgenoten Groep Autisme Limburg
DESCRIPTION:Lotgenotengroep mensen met autisme. Het betreft een vaste groep. Voor iemand kan deelnemen volgt een kennismakingsgesprek met de trainer.\nThema: Levensfase en autisme.\nVoor alle lotgenotenavonden en activiteiten is opgave vooraf verplicht via e-mail info@lgal.nl.
URL:https://autismenetwerkzuidlimburg.nl/event/lotgenotengroep-autisme-limburg-5/
LOCATION:Mondriaan\, Vijverdalseweg 1\, Maastricht\, 6226 NB\, Nederland
ORGANIZER;CN="LGAL":MAILTO:info@lgal.nl
END:VEVENT
BEGIN:VEVENT
DTSTART;TZID=Europe/Paris:20250603T193000
DTEND;TZID=Europe/Paris:20250603T213000
DTSTAMP:20260424T024112
CREATED:20240715T191845Z
LAST-MODIFIED:20250501T174259Z
UID:4467-1748979000-1748986200@autismenetwerkzuidlimburg.nl
SUMMARY:Lotgenoten Groep Autisme Limburg
DESCRIPTION:Lotgenotengroep mensen met autisme. Het betreft een vaste groep.\nVoor iemand kan deelnemen volgt een kennismakingsgesprek met de trainer.\nThema: Huishouden en hulp (PGB\, WMO\, WLZ)\nVoor alle lotgenotenavonden en activiteiten is opgave vooraf verplicht via e-mail info@lgal.nl.
URL:https://autismenetwerkzuidlimburg.nl/event/lotgenotengroep-autisme-limburg-4/
LOCATION:Mondriaan\, Vijverdalseweg 1\, Maastricht\, 6226 NB\, Nederland
ORGANIZER;CN="LGAL":MAILTO:info@lgal.nl
END:VEVENT
BEGIN:VEVENT
DTSTART;TZID=Europe/Paris:20220329T190000
DTEND;TZID=Europe/Paris:20220329T213000
DTSTAMP:20260424T024112
CREATED:20220328T210548Z
LAST-MODIFIED:20220328T210739Z
UID:4374-1648580400-1648589400@autismenetwerkzuidlimburg.nl
SUMMARY:Lotgenoten-groep Autisme Limburg
DESCRIPTION:Op dinsdag 29 maart 2022 vindt onze volgende lotgenotenavond in Maastricht plaats.\nWe komen bij elkaar bij Mondriaan Maastricht in vergaderruimte ‘t Posjet (dus niet de gebruikelijke ruimte) aan de Vijverdalseweg 1.\nDe ingang van de vergaderruimte vind je als je rechtdoor loopt bij de portier van het hoofdgebouw van Mondriaan.\nParkeren kan op de grote parkeerplaats van Mondriaan die is te bereiken via de Bergerstraat.\n\n\nHet thema is: Spellenavond\n\n\nHet maximaal aantal deelnemers is 15. Meld je dus op tijd aan.| \n\n\n\nAgenda:\n\n\n19.00 – 19.30 : Inloop\n19.30 – 20.30 : Spellenavond\n20.30 – 20.45 : Pauze\n20.45 – 21.15 : Verder met het onderwerp\n21.15 – 21.30 : Rondvraag en afsluiting van deze avond\n\n\nAanmelden uiterlijk op maandagavond vanwege de toenemende drukte. Wanneer je je op dinsdag aanmeldt kun je helaas niet meer deelnemen.\n\n\nInformatie over onze komende lotgenotenavonden en activiteiten vinden jullie op www.lgal.nl. \n\n\n\nMet vriendelijke groet\,\n\n\nDe commissie lotgenotenavond
URL:https://autismenetwerkzuidlimburg.nl/event/lotgenotengroep-autisme-limburg-3/
LOCATION:Mondriaan\, Vijverdalseweg 1\, Maastricht\, 6226 NB\, Nederland
ORGANIZER;CN="LGAL":MAILTO:info@lgal.nl
END:VEVENT
BEGIN:VEVENT
DTSTART;TZID=Europe/Paris:20210914T190000
DTEND;TZID=Europe/Paris:20210914T213000
DTSTAMP:20260424T024112
CREATED:20210910T185236Z
LAST-MODIFIED:20210910T185236Z
UID:4051-1631646000-1631655000@autismenetwerkzuidlimburg.nl
SUMMARY:Lotgenotengroep Autisme Limburg
DESCRIPTION:Op dinsdag 14 september 2021 vindt onze volgende lotgenotenavond in Maastricht plaats.\nWe komen bij elkaar bij Mondriaan Maastricht in vergaderruimte ‘t Posjet (dus niet de gebruikelijke ruimte) aan de Vijverdalseweg 1.\nDe ingang van de vergaderruimte vind je als je rechtdoor loopt bij de portier van het hoofdgebouw van Mondriaan.\nParkeren kan op de grote parkeerplaats van Mondriaan die is te bereiken via de Bergerstraat.\n\n\n\nHet thema is Feestelijke opening.\n\n\n\nDe gespreksleiders zijn Anouk en Leo.\n\n\n\nHet maximaal aantal deelnemers is 15. Meld je dus op tijd aan.\n\n\n\nAgenda:\n\n\n19.00 – 19.30 : Inloop\n19.30 – 20.30 : Feestelijke opening\n20.30 – 20.45 : Pauze\n20.45 – 21.15 : Verder met het onderwerp\n21.15 – 21.30 : Rondvraag en afsluiting van deze avond\n\n\n\nAanmelden kan door deze e-mail te beantwoorden.\nUiterlijk op maandagavond vanwege de toenemende drukte.\nWanneer je je op dinsdag aanmeldt kun je helaas niet meer deelnemen. \n\n\n\nInformatie over onze komende lotgenotenavonden en activiteiten vinden jullie op www.lgal.nl. \n\n\n\nMet vriendelijke groet\,\n\n\nDe commissie lotgenotenavond
URL:https://autismenetwerkzuidlimburg.nl/event/lotgenotengroep-autisme-limburg/
LOCATION:Mondriaan\, Vijverdalseweg 1\, Maastricht\, 6226 NB\, Nederland
ORGANIZER;CN="LGAL":MAILTO:info@lgal.nl
END:VEVENT
END:VCALENDAR