BEGIN:VCALENDAR
VERSION:2.0
PRODID:-//Autisme Netwerk Zuid-Limburg - ECPv6.15.14//NONSGML v1.0//EN
CALSCALE:GREGORIAN
METHOD:PUBLISH
X-ORIGINAL-URL:https://autismenetwerkzuidlimburg.nl
X-WR-CALDESC:Evenementen voor Autisme Netwerk Zuid-Limburg
REFRESH-INTERVAL;VALUE=DURATION:PT1H
X-Robots-Tag:noindex
X-PUBLISHED-TTL:PT1H
BEGIN:VTIMEZONE
TZID:Europe/Paris
BEGIN:DAYLIGHT
TZOFFSETFROM:+0100
TZOFFSETTO:+0200
TZNAME:CEST
DTSTART:20200329T010000
END:DAYLIGHT
BEGIN:STANDARD
TZOFFSETFROM:+0200
TZOFFSETTO:+0100
TZNAME:CET
DTSTART:20201025T010000
END:STANDARD
BEGIN:DAYLIGHT
TZOFFSETFROM:+0100
TZOFFSETTO:+0200
TZNAME:CEST
DTSTART:20210328T010000
END:DAYLIGHT
BEGIN:STANDARD
TZOFFSETFROM:+0200
TZOFFSETTO:+0100
TZNAME:CET
DTSTART:20211031T010000
END:STANDARD
BEGIN:DAYLIGHT
TZOFFSETFROM:+0100
TZOFFSETTO:+0200
TZNAME:CEST
DTSTART:20220327T010000
END:DAYLIGHT
BEGIN:STANDARD
TZOFFSETFROM:+0200
TZOFFSETTO:+0100
TZNAME:CET
DTSTART:20221030T010000
END:STANDARD
END:VTIMEZONE
BEGIN:VEVENT
DTSTART;TZID=Europe/Paris:20210717T130000
DTEND;TZID=Europe/Paris:20210717T170000
DTSTAMP:20260424T181739
CREATED:20210706T134326Z
LAST-MODIFIED:20210706T134326Z
UID:3737-1626526800-1626541200@autismenetwerkzuidlimburg.nl
SUMMARY:Autisme Ontmoetingsdag
DESCRIPTION:Wanneer: Zaterdag 17 juli 2021\nTijd: 13.00 – 17.00 uur\nLocatie: Het Munsterhof\nAdres: Munsterplein 21\, 6041 HE Roermond\nGastheer: Peter\nOrganisatie: A.O.D. Nederland\nAanmelden: www.aodnederland.nl\nDeelname: Consumpties voor eigen rekening \nUitnodiging: Uitnodiging A.O.D. Roermond
URL:https://autismenetwerkzuidlimburg.nl/event/autisme-ontmoetingsdag-3/
LOCATION:Munsterhof Roermond\, Munsterplein 21\, Roermond\, 6041 HE\, Nederland
END:VEVENT
END:VCALENDAR