BEGIN:VCALENDAR
VERSION:2.0
PRODID:-//Autisme Netwerk Zuid-Limburg - ECPv6.15.14//NONSGML v1.0//EN
CALSCALE:GREGORIAN
METHOD:PUBLISH
X-ORIGINAL-URL:https://autismenetwerkzuidlimburg.nl
X-WR-CALDESC:Evenementen voor Autisme Netwerk Zuid-Limburg
REFRESH-INTERVAL;VALUE=DURATION:PT1H
X-Robots-Tag:noindex
X-PUBLISHED-TTL:PT1H
BEGIN:VTIMEZONE
TZID:Europe/Paris
BEGIN:DAYLIGHT
TZOFFSETFROM:+0100
TZOFFSETTO:+0200
TZNAME:CEST
DTSTART:20190331T010000
END:DAYLIGHT
BEGIN:STANDARD
TZOFFSETFROM:+0200
TZOFFSETTO:+0100
TZNAME:CET
DTSTART:20191027T010000
END:STANDARD
BEGIN:DAYLIGHT
TZOFFSETFROM:+0100
TZOFFSETTO:+0200
TZNAME:CEST
DTSTART:20200329T010000
END:DAYLIGHT
BEGIN:STANDARD
TZOFFSETFROM:+0200
TZOFFSETTO:+0100
TZNAME:CET
DTSTART:20201025T010000
END:STANDARD
BEGIN:DAYLIGHT
TZOFFSETFROM:+0100
TZOFFSETTO:+0200
TZNAME:CEST
DTSTART:20210328T010000
END:DAYLIGHT
BEGIN:STANDARD
TZOFFSETFROM:+0200
TZOFFSETTO:+0100
TZNAME:CET
DTSTART:20211031T010000
END:STANDARD
END:VTIMEZONE
BEGIN:VEVENT
DTSTART;TZID=Europe/Paris:20200220T190000
DTEND;TZID=Europe/Paris:20200220T213000
DTSTAMP:20260425T165821
CREATED:20191108T115326Z
LAST-MODIFIED:20200207T134025Z
UID:3045-1582225200-1582234200@autismenetwerkzuidlimburg.nl
SUMMARY:Autitreff
DESCRIPTION:OPGELET\, gewijzigde locaties! \n AUTI-TREFF is een ontmoetingsplek voor ouders en/of naasten van mensen met autisme\, mensen met autisme zelf en voor iedereen die zich persoonlijk of professioneel betrokken voelt bij mensen met autisme. \nAUTI-TREFF wordt georganiseerd door ouders voor ouders. Ouders bepalen zelf wat in de bijeenkomsten besproken wordt. \nNaast inloopavonden voor ontmoeting en wederzijdse ondersteuning zijn er bij AUTI-TREFF diverse activiteiten en thema-avonden met als doel het verbeteren van de positie van mensen met autisme specifiek in onze regio Zuid-Limburg. Thema’s hebben o.m. betrekking op het verbeteren van gemeentelijke beleid (Wmo\, Jeugdwet\, PGB)\, (beschermd) wonen\, onderwijs\, werk en/of uitkering (Wajong)\, (toegang tot) hulpverlening. \nMeer info op facebook: Auti-Treff \nVan 19.00-19.30 uur is inloop en de mogelijkheid om vragen te stellen aan het AIC. \nOp 20 februari a.s. zijn deelnemers aan AUTI-TREFF nog te gast bij: \n Stichting Wilco Limburg \nAdres: Dr.Cl. Meulemanstraat 1B\, 6418PC Heerlen – Heerlerbaan. \nStichting Wilco is gelegen naast de pastorie van de St. Joseph Kerk\, Heerlerbaan. Parkeergelegenheid is bij het kerkplein. \n Nieuws  \nInmiddels hebben wij een gesprek gehad met Alcander en Meander. Positief is dat AUTI-TREFF gebruik kan blijven maken van de oude locatie (Buurtpunt Peter Schunck). Echter\, na steeds 6 maanden zullen Meander en Alcander bekijken of zijzelf de ruimte nodig hebben voor eventuele activiteiten op die donderdagavond. \n 
URL:https://autismenetwerkzuidlimburg.nl/event/autitreff-informatieavond-pgb-2-2020-02-20/
LOCATION:Stichting Wilco Limburg\, Dr. CL.Meulemanstraat 1B\, Heerlen\, 6418 PC\, Nederland
ORGANIZER;CN="Auti-Treff":MAILTO:autitreff@gmail.com
END:VEVENT
END:VCALENDAR