BEGIN:VCALENDAR
VERSION:2.0
PRODID:-//Autisme Netwerk Zuid-Limburg - ECPv6.15.14//NONSGML v1.0//EN
CALSCALE:GREGORIAN
METHOD:PUBLISH
X-WR-CALNAME:Autisme Netwerk Zuid-Limburg
X-ORIGINAL-URL:https://autismenetwerkzuidlimburg.nl
X-WR-CALDESC:Evenementen voor Autisme Netwerk Zuid-Limburg
REFRESH-INTERVAL;VALUE=DURATION:PT1H
X-Robots-Tag:noindex
X-PUBLISHED-TTL:PT1H
BEGIN:VTIMEZONE
TZID:Europe/Paris
BEGIN:DAYLIGHT
TZOFFSETFROM:+0100
TZOFFSETTO:+0200
TZNAME:CEST
DTSTART:20200329T010000
END:DAYLIGHT
BEGIN:STANDARD
TZOFFSETFROM:+0200
TZOFFSETTO:+0100
TZNAME:CET
DTSTART:20201025T010000
END:STANDARD
BEGIN:DAYLIGHT
TZOFFSETFROM:+0100
TZOFFSETTO:+0200
TZNAME:CEST
DTSTART:20210328T010000
END:DAYLIGHT
BEGIN:STANDARD
TZOFFSETFROM:+0200
TZOFFSETTO:+0100
TZNAME:CET
DTSTART:20211031T010000
END:STANDARD
BEGIN:DAYLIGHT
TZOFFSETFROM:+0100
TZOFFSETTO:+0200
TZNAME:CEST
DTSTART:20220327T010000
END:DAYLIGHT
BEGIN:STANDARD
TZOFFSETFROM:+0200
TZOFFSETTO:+0100
TZNAME:CET
DTSTART:20221030T010000
END:STANDARD
END:VTIMEZONE
BEGIN:VEVENT
DTSTART;TZID=Europe/Paris:20211029T100000
DTEND;TZID=Europe/Paris:20211029T130000
DTSTAMP:20260424T112339
CREATED:20211001T111812Z
LAST-MODIFIED:20211025T122100Z
UID:4063-1635501600-1635512400@autismenetwerkzuidlimburg.nl
SUMMARY:Auti corner Treebeek
DESCRIPTION:Ontmoetingsplek voor mensen met autisme. \n\n\n\nGraag willen wij mensen met autisme een plek bieden waar men elkaar kan ontmoeten in een ontspannen sfeer.\nGewoon om gezellig een kopje koffie/thee te komen drinken of om even uit je eigen sleur te stappen.\nDe vrije inloop voor mensen met ASS (auticorner) is eens in de twee weken van 10.00 uur tot 13.00 uur.\nDe inloopdagen zijn op de Facebookpagina van het Leger des Heils te Treebeek terug te vinden. \nKorps Treebeek Leger des Heils\nHorizonstraat 77\n6446 SC Brunssum\nTelefoon: 06-83451290\nE-mail GidB.auticorner@legerdesheils.nl\nFacebook: Leger des Heils Treebeek L
URL:https://autismenetwerkzuidlimburg.nl/event/auti-corner-treebeek-3/2021-10-29/
LOCATION:Auticorner\, Horizonstraat 77\, Brunssum\, 6446 SC\, Nederland
ORGANIZER;CN="Leger des Heils":MAILTO:laura6924@gmail.com
END:VEVENT
END:VCALENDAR