BEGIN:VCALENDAR
VERSION:2.0
PRODID:-//Autisme Netwerk Zuid-Limburg - ECPv6.15.14//NONSGML v1.0//EN
CALSCALE:GREGORIAN
METHOD:PUBLISH
X-WR-CALNAME:Autisme Netwerk Zuid-Limburg
X-ORIGINAL-URL:https://autismenetwerkzuidlimburg.nl
X-WR-CALDESC:Evenementen voor Autisme Netwerk Zuid-Limburg
REFRESH-INTERVAL;VALUE=DURATION:PT1H
X-Robots-Tag:noindex
X-PUBLISHED-TTL:PT1H
BEGIN:VTIMEZONE
TZID:Europe/Paris
BEGIN:DAYLIGHT
TZOFFSETFROM:+0100
TZOFFSETTO:+0200
TZNAME:CEST
DTSTART:20220327T010000
END:DAYLIGHT
BEGIN:STANDARD
TZOFFSETFROM:+0200
TZOFFSETTO:+0100
TZNAME:CET
DTSTART:20221030T010000
END:STANDARD
BEGIN:DAYLIGHT
TZOFFSETFROM:+0100
TZOFFSETTO:+0200
TZNAME:CEST
DTSTART:20230326T010000
END:DAYLIGHT
BEGIN:STANDARD
TZOFFSETFROM:+0200
TZOFFSETTO:+0100
TZNAME:CET
DTSTART:20231029T010000
END:STANDARD
BEGIN:DAYLIGHT
TZOFFSETFROM:+0100
TZOFFSETTO:+0200
TZNAME:CEST
DTSTART:20240331T010000
END:DAYLIGHT
BEGIN:STANDARD
TZOFFSETFROM:+0200
TZOFFSETTO:+0100
TZNAME:CET
DTSTART:20241027T010000
END:STANDARD
END:VTIMEZONE
BEGIN:VEVENT
DTSTART;TZID=Europe/Paris:20230328T190000
DTEND;TZID=Europe/Paris:20230328T213000
DTSTAMP:20260420T193516
CREATED:20230319T202633Z
LAST-MODIFIED:20230319T203016Z
UID:4395-1680030000-1680039000@autismenetwerkzuidlimburg.nl
SUMMARY:Informatieavond Autisme en overprikkeling
DESCRIPTION:In het kader van de Autismeweek organiseert MEE Zuid-Limburg een informatieavond over autisme en overprikkeling met als gevolg een overbelast zenuwstelsel. Marline Pijler (autismespecialist en eigenaar van Autisme Praktijk Alice) en Marijke Batty (autismecoach) informeren ons over de polyvagaaltheorie. De rol van ons zenuwstelsel bij stress\, trauma en angst. \n\nDe polyvagaaltheorie gaat ervan uit dat ons zenuwstelsel meerdere verdedigingsstrategieën\nhanteert wanneer we stress ervaren. De reactie bij stress wordt onbewust aangestuurd door het zenuwstelsel en verschilt per persoon. Het bij jezelf herkennen van stress en de manier waarop jij daarop reageert\, kan helpen om problemen aan te pakken. Dr. Stefan Porges (neurowetenschapper) heeft jarenlang onderzoek gedaan naar de rol van ons zenuwstelsel bij stress\, trauma en angst. Hij ontwikkelde de polyvagaal theorie en het Safe & Sound Protocol (SSP) voor mensen met autisme. SSP is een luisterinterventie om het zenuwstelsel te kalmeren.\n\n\nOrganisatie: MEE Zuid-Limburg en Marline Pijler\, Autisme Praktijk Alice\nDatum: 28 maart 2023\nTijd: 19.00 uur\nLocatie: MEE Zuid-Limburg\nAdres: Frankenlaan 7\, Heerlen\nAanmelden vóór 22 maart via: autisme@meezuidlimburg.nl
URL:https://autismenetwerkzuidlimburg.nl/event/informatieavond-autisme-en-overprikkeling/
LOCATION:MEE Zuid-Limburg\, Frankenlaan 7\, Heerlen\, 6419 BT\, Nederland
ORGANIZER;CN="MEE Zuid-Limburg":MAILTO:servicepunt@meezuidlimburg.nl
END:VEVENT
END:VCALENDAR