BEGIN:VCALENDAR
VERSION:2.0
PRODID:-//Autisme Netwerk Zuid-Limburg - ECPv6.15.14//NONSGML v1.0//EN
CALSCALE:GREGORIAN
METHOD:PUBLISH
X-WR-CALNAME:Autisme Netwerk Zuid-Limburg
X-ORIGINAL-URL:https://autismenetwerkzuidlimburg.nl
X-WR-CALDESC:Evenementen voor Autisme Netwerk Zuid-Limburg
REFRESH-INTERVAL;VALUE=DURATION:PT1H
X-Robots-Tag:noindex
X-PUBLISHED-TTL:PT1H
BEGIN:VTIMEZONE
TZID:Europe/Paris
BEGIN:DAYLIGHT
TZOFFSETFROM:+0100
TZOFFSETTO:+0200
TZNAME:CEST
DTSTART:20190331T010000
END:DAYLIGHT
BEGIN:STANDARD
TZOFFSETFROM:+0200
TZOFFSETTO:+0100
TZNAME:CET
DTSTART:20191027T010000
END:STANDARD
BEGIN:DAYLIGHT
TZOFFSETFROM:+0100
TZOFFSETTO:+0200
TZNAME:CEST
DTSTART:20200329T010000
END:DAYLIGHT
BEGIN:STANDARD
TZOFFSETFROM:+0200
TZOFFSETTO:+0100
TZNAME:CET
DTSTART:20201025T010000
END:STANDARD
BEGIN:DAYLIGHT
TZOFFSETFROM:+0100
TZOFFSETTO:+0200
TZNAME:CEST
DTSTART:20210328T010000
END:DAYLIGHT
BEGIN:STANDARD
TZOFFSETFROM:+0200
TZOFFSETTO:+0100
TZNAME:CET
DTSTART:20211031T010000
END:STANDARD
END:VTIMEZONE
BEGIN:VEVENT
DTSTART;TZID=Europe/Paris:20200202T133000
DTEND;TZID=Europe/Paris:20200202T140000
DTSTAMP:20260425T181101
CREATED:20200124T104800Z
LAST-MODIFIED:20200124T104800Z
UID:3161-1580650200-1580652000@autismenetwerkzuidlimburg.nl
SUMMARY:Film Mind My Mind
DESCRIPTION:Animatiefilm Mind My Mind: in het hoofd van autisme. Een verbeelding van een leven met autisme. \n  \n 
URL:https://autismenetwerkzuidlimburg.nl/event/film-mind-my-mind/
LOCATION:Filmhuis De Domijnen\, Ligne 3\, Sittard\, Limburg\, 6131 MT\, Nederland
END:VEVENT
END:VCALENDAR